BEGIN:VCALENDAR
VERSION:2.0
PRODID:-//Die Krawatte Wuppertal - ECPv6.15.16//NONSGML v1.0//EN
CALSCALE:GREGORIAN
METHOD:PUBLISH
X-WR-CALNAME:Die Krawatte Wuppertal
X-ORIGINAL-URL:https://die-krawatte-wuppertal.de
X-WR-CALDESC:Veranstaltungen für Die Krawatte Wuppertal
REFRESH-INTERVAL;VALUE=DURATION:PT1H
X-Robots-Tag:noindex
X-PUBLISHED-TTL:PT1H
BEGIN:VTIMEZONE
TZID:UTC
BEGIN:STANDARD
TZOFFSETFROM:+0000
TZOFFSETTO:+0000
TZNAME:UTC
DTSTART:20250101T000000
END:STANDARD
END:VTIMEZONE
BEGIN:VEVENT
DTSTART;TZID=UTC:20261205T150000
DTEND;TZID=UTC:20261205T180000
DTSTAMP:20260421T114841
CREATED:20260217T140800Z
LAST-MODIFIED:20260217T140800Z
UID:10001712-1796482800-1796493600@die-krawatte-wuppertal.de
SUMMARY:Kirche Kunterbunt: Plätzchen backen
DESCRIPTION:Kirche Kunterbunt: Plätzchen backen
URL:https://die-krawatte-wuppertal.de/event/kirche-kunterbunt-plaetzchen-backen/
END:VEVENT
END:VCALENDAR