BEGIN:VCALENDAR
VERSION:2.0
PRODID:-//Die Krawatte Wuppertal - ECPv6.15.16//NONSGML v1.0//EN
CALSCALE:GREGORIAN
METHOD:PUBLISH
X-ORIGINAL-URL:https://die-krawatte-wuppertal.de
X-WR-CALDESC:Veranstaltungen für Die Krawatte Wuppertal
REFRESH-INTERVAL;VALUE=DURATION:PT1H
X-Robots-Tag:noindex
X-PUBLISHED-TTL:PT1H
BEGIN:VTIMEZONE
TZID:UTC
BEGIN:STANDARD
TZOFFSETFROM:+0000
TZOFFSETTO:+0000
TZNAME:UTC
DTSTART:20250101T000000
END:STANDARD
END:VTIMEZONE
BEGIN:VEVENT
DTSTART;TZID=UTC:20261023T150000
DTEND;TZID=UTC:20261023T170000
DTSTAMP:20260421T201909
CREATED:20260217T133526Z
LAST-MODIFIED:20260217T133604Z
UID:10001374-1792767600-1792774800@die-krawatte-wuppertal.de
SUMMARY:Krawattencafé
DESCRIPTION:Die Krawatte\, eine ehemalige Krawattenfabrik im Wuppertaler Osten\, ist heute ein lebendiger Ort der interkulturellen und interreligiösen Begegnung. Hier kommen Menschen unterschiedlicher Herkunft\, Generationen und Lebensgeschichten zusammen: Besucher*innen mit und ohne Fluchterfahrung\, Jung und Alt\, in Wuppertal Aufgewachsene ebenso wie neu Zugewanderte. Sie begegnen sich\, tauschen sich aus\, feiern gemeinsam und entwickeln Ideen für ihr Quartier. \nIm gemeinsamen Miteinander werden Unterschiede überbrückt und das Gefühl von Zusammenhalt gestärkt. Dabei entstehen Verbindungen und Freundschaften\, die im Alltag sonst kaum möglich wären. Die Angebote der Krawatte spiegeln diese Vielfalt wider: In einem Marionettenprojekt gestalten rund 30 Frauen ihre eigenen Figuren und erzählen damit persönliche Lebensgeschichten. Im Krawatten-Café wird gespielt\, Deutsch gelernt\, beraten und kreativ gearbeitet. \nTermin: Immer letzter Freitag im Monat\, von 15-17 Uhr.
URL:https://die-krawatte-wuppertal.de/event/krawattencafe/2026-10-23/
ATTACH;FMTTYPE=image/webp:https://die-krawatte-wuppertal.de/wp-content/uploads/2026/02/cafe_3.webp
END:VEVENT
BEGIN:VEVENT
DTSTART;TZID=UTC:20261026T170000
DTEND;TZID=UTC:20261026T200000
DTSTAMP:20260421T201909
CREATED:20260217T104630Z
LAST-MODIFIED:20260217T110231Z
UID:10000299-1793034000-1793044800@die-krawatte-wuppertal.de
SUMMARY:Zirkus Wunderkind
DESCRIPTION:Bei uns könnt ihr lernen:\n• Akrobatik\n• Turnen\n• Jonglieren\n• Einradfahren\n• Luftakrobatik\n• Pantomime \nMontag\, Dienstag und Mittwoch\nvon 17.00 bis 20.00 Uhr. \nOrt: Die Krawatte | Bockmühle 17a | 42289 Wuppertal
URL:https://die-krawatte-wuppertal.de/event/zirkus-wunderkind/2026-10-26/
ATTACH;FMTTYPE=image/webp:https://die-krawatte-wuppertal.de/wp-content/uploads/2026/02/Zirkus_6.webp
END:VEVENT
BEGIN:VEVENT
DTSTART;TZID=UTC:20261027T160000
DTEND;TZID=UTC:20261027T173000
DTSTAMP:20260421T201909
CREATED:20260217T134019Z
LAST-MODIFIED:20260217T141630Z
UID:10001462-1793116800-1793122200@die-krawatte-wuppertal.de
SUMMARY:Frühförderung
DESCRIPTION:Unsere Frühförderangebote begleiten Kinder und Familien von Anfang an: Bereits in der Krabbelgruppe schaffen wir Räume für frühe Begegnung\, spielerisches Lernen und vertrauensvolle Begleitung. \nAb 2026 bieten wir zusätzlich eine Kindergruppe für arabisch sprechende Frauen an\, die den Austausch stärkt und den Einstieg in Bildung und Alltag unterstützt.
URL:https://die-krawatte-wuppertal.de/event/lernfoerderung/2026-10-27/
ATTACH;FMTTYPE=image/webp:https://die-krawatte-wuppertal.de/wp-content/uploads/2026/02/Lern_3.webp
END:VEVENT
BEGIN:VEVENT
DTSTART;TZID=UTC:20261027T170000
DTEND;TZID=UTC:20261027T200000
DTSTAMP:20260421T201909
CREATED:20260217T104630Z
LAST-MODIFIED:20260217T110231Z
UID:10000595-1793120400-1793131200@die-krawatte-wuppertal.de
SUMMARY:Zirkus Wunderkind
DESCRIPTION:Bei uns könnt ihr lernen:\n• Akrobatik\n• Turnen\n• Jonglieren\n• Einradfahren\n• Luftakrobatik\n• Pantomime \nMontag\, Dienstag und Mittwoch\nvon 17.00 bis 20.00 Uhr. \nOrt: Die Krawatte | Bockmühle 17a | 42289 Wuppertal
URL:https://die-krawatte-wuppertal.de/event/zirkus-wunderkind/2026-10-27/
ATTACH;FMTTYPE=image/webp:https://die-krawatte-wuppertal.de/wp-content/uploads/2026/02/Zirkus_6.webp
END:VEVENT
BEGIN:VEVENT
DTSTART;TZID=UTC:20261028T170000
DTEND;TZID=UTC:20261028T200000
DTSTAMP:20260421T201909
CREATED:20260217T104630Z
LAST-MODIFIED:20260217T110231Z
UID:10000596-1793206800-1793217600@die-krawatte-wuppertal.de
SUMMARY:Zirkus Wunderkind
DESCRIPTION:Bei uns könnt ihr lernen:\n• Akrobatik\n• Turnen\n• Jonglieren\n• Einradfahren\n• Luftakrobatik\n• Pantomime \nMontag\, Dienstag und Mittwoch\nvon 17.00 bis 20.00 Uhr. \nOrt: Die Krawatte | Bockmühle 17a | 42289 Wuppertal
URL:https://die-krawatte-wuppertal.de/event/zirkus-wunderkind/2026-10-28/
ATTACH;FMTTYPE=image/webp:https://die-krawatte-wuppertal.de/wp-content/uploads/2026/02/Zirkus_6.webp
END:VEVENT
BEGIN:VEVENT
DTSTART;TZID=UTC:20261028T173000
DTEND;TZID=UTC:20261028T183000
DTSTAMP:20260421T201909
CREATED:20260217T102954Z
LAST-MODIFIED:20260217T110049Z
UID:10000037-1793208600-1793212200@die-krawatte-wuppertal.de
SUMMARY:Krawatten Chor
DESCRIPTION:Im Krawattenchor kommen Menschen aus unterschiedlichen Kulturen zusammen\, um gemeinsam Lieder in vielen Sprachen zu singen. Musik verbindet\, überwindet Grenzen und schafft Gemeinschaft – genau das erleben wir jede Woche. Bei uns geht es nicht um Perfektion\, sondern um Freude\, Begegnung und das gute Gefühl\, zusammen zu klingen. \nWir treffen uns mittwochs von 17:00 bis 18:30 Uhr im Paul-Gerhardt-Haus der Ev. Kirchengemeinde Heckinghausen. \nAlle sind willkommen – ganz gleich\, welche Sprache sie sprechen oder wie viel Gesangserfahrung sie mitbringen.
URL:https://die-krawatte-wuppertal.de/event/krawatten-chor/2026-10-28/
ATTACH;FMTTYPE=image/webp:https://die-krawatte-wuppertal.de/wp-content/uploads/2026/02/Krawatten_Chor.webp
END:VEVENT
BEGIN:VEVENT
DTSTART;TZID=UTC:20261029T174500
DTEND;TZID=UTC:20261029T184500
DTSTAMP:20260421T201909
CREATED:20260217T110603Z
LAST-MODIFIED:20260217T110604Z
UID:10001141-1793295900-1793299500@die-krawatte-wuppertal.de
SUMMARY:Zumba
DESCRIPTION:Zumba in der Krawatte.\nJeden Donnerstag\nvon 17.45 bis 18.45 Uhr.
URL:https://die-krawatte-wuppertal.de/event/zumba/2026-10-29/
ATTACH;FMTTYPE=image/jpeg:https://die-krawatte-wuppertal.de/wp-content/uploads/2026/02/zumba.jpg
END:VEVENT
BEGIN:VEVENT
DTSTART;TZID=UTC:20261101T130000
DTEND;TZID=UTC:20261101T170000
DTSTAMP:20260421T201910
CREATED:20260217T105938Z
LAST-MODIFIED:20260217T105939Z
UID:10001053-1793538000-1793552400@die-krawatte-wuppertal.de
SUMMARY:TechCafé
DESCRIPTION:TechCafé: Dein Einstieg in die IT-Welt – kostenlos und für jeden! \nDas TechCafé bietet kostenlose IT-Kurse und Unterstützung für alle an\, die sich in der digitalen Welt besser zurechtfinden möchten. Unser Angebot umfasst die individuelle Beratung und Fehlersuche für Geräte wie Computer\, Laptops und Tablets sowie umfassende Beratung zur sicheren Softwarenutzung und IT-Sicherheit. Wir unterstützen dich bei der Webseitengestaltung\, beraten bei digitalen Projekten und bieten Schulungen in einfacher Programmierung sowie Einführungen in gängige Anwendungen an. \nDarüber hinaus vermitteln wir praktische Kenntnisse in der Datenverarbeitung mit Fokus auf Cloud-Anwendungen\, CSV-Bearbeitung und Datenkonvertierung. Wir helfen dir dabei\, Programme zu erlernen\, die für den täglichen Gebrauch wichtig sind. Auch bei der Technik selbst lassen wir dich nicht im Stich: Wir führen kleinere Hardware-Reparaturen durch\, tauschen Bauteile aus (sofern verfügbar) und kümmern uns um die Fehlerbehebung sowie die regelmäßige Wartung deiner Geräte\, um deren Lebensdauer zu verlängern. \nWann? Jeden ersten Sonntag im Monat von 13:00 bis 17:00 Uhr.
URL:https://die-krawatte-wuppertal.de/event/techcafe/2026-11-01/
ATTACH;FMTTYPE=image/jpeg:https://die-krawatte-wuppertal.de/wp-content/uploads/2026/02/techcafe.jpg
END:VEVENT
BEGIN:VEVENT
DTSTART;TZID=UTC:20261102T170000
DTEND;TZID=UTC:20261102T200000
DTSTAMP:20260421T201910
CREATED:20260217T104630Z
LAST-MODIFIED:20260217T110231Z
UID:10000300-1793638800-1793649600@die-krawatte-wuppertal.de
SUMMARY:Zirkus Wunderkind
DESCRIPTION:Bei uns könnt ihr lernen:\n• Akrobatik\n• Turnen\n• Jonglieren\n• Einradfahren\n• Luftakrobatik\n• Pantomime \nMontag\, Dienstag und Mittwoch\nvon 17.00 bis 20.00 Uhr. \nOrt: Die Krawatte | Bockmühle 17a | 42289 Wuppertal
URL:https://die-krawatte-wuppertal.de/event/zirkus-wunderkind/2026-11-02/
ATTACH;FMTTYPE=image/webp:https://die-krawatte-wuppertal.de/wp-content/uploads/2026/02/Zirkus_6.webp
END:VEVENT
BEGIN:VEVENT
DTSTART;TZID=UTC:20261103T160000
DTEND;TZID=UTC:20261103T173000
DTSTAMP:20260421T201910
CREATED:20260217T134019Z
LAST-MODIFIED:20260217T141630Z
UID:10001463-1793721600-1793727000@die-krawatte-wuppertal.de
SUMMARY:Frühförderung
DESCRIPTION:Unsere Frühförderangebote begleiten Kinder und Familien von Anfang an: Bereits in der Krabbelgruppe schaffen wir Räume für frühe Begegnung\, spielerisches Lernen und vertrauensvolle Begleitung. \nAb 2026 bieten wir zusätzlich eine Kindergruppe für arabisch sprechende Frauen an\, die den Austausch stärkt und den Einstieg in Bildung und Alltag unterstützt.
URL:https://die-krawatte-wuppertal.de/event/lernfoerderung/2026-11-03/
ATTACH;FMTTYPE=image/webp:https://die-krawatte-wuppertal.de/wp-content/uploads/2026/02/Lern_3.webp
END:VEVENT
BEGIN:VEVENT
DTSTART;TZID=UTC:20261103T170000
DTEND;TZID=UTC:20261103T200000
DTSTAMP:20260421T201910
CREATED:20260217T104630Z
LAST-MODIFIED:20260217T110231Z
UID:10000597-1793725200-1793736000@die-krawatte-wuppertal.de
SUMMARY:Zirkus Wunderkind
DESCRIPTION:Bei uns könnt ihr lernen:\n• Akrobatik\n• Turnen\n• Jonglieren\n• Einradfahren\n• Luftakrobatik\n• Pantomime \nMontag\, Dienstag und Mittwoch\nvon 17.00 bis 20.00 Uhr. \nOrt: Die Krawatte | Bockmühle 17a | 42289 Wuppertal
URL:https://die-krawatte-wuppertal.de/event/zirkus-wunderkind/2026-11-03/
ATTACH;FMTTYPE=image/webp:https://die-krawatte-wuppertal.de/wp-content/uploads/2026/02/Zirkus_6.webp
END:VEVENT
BEGIN:VEVENT
DTSTART;TZID=UTC:20261104T170000
DTEND;TZID=UTC:20261104T200000
DTSTAMP:20260421T201910
CREATED:20260217T104630Z
LAST-MODIFIED:20260217T110231Z
UID:10000598-1793811600-1793822400@die-krawatte-wuppertal.de
SUMMARY:Zirkus Wunderkind
DESCRIPTION:Bei uns könnt ihr lernen:\n• Akrobatik\n• Turnen\n• Jonglieren\n• Einradfahren\n• Luftakrobatik\n• Pantomime \nMontag\, Dienstag und Mittwoch\nvon 17.00 bis 20.00 Uhr. \nOrt: Die Krawatte | Bockmühle 17a | 42289 Wuppertal
URL:https://die-krawatte-wuppertal.de/event/zirkus-wunderkind/2026-11-04/
ATTACH;FMTTYPE=image/webp:https://die-krawatte-wuppertal.de/wp-content/uploads/2026/02/Zirkus_6.webp
END:VEVENT
BEGIN:VEVENT
DTSTART;TZID=UTC:20261104T173000
DTEND;TZID=UTC:20261104T183000
DTSTAMP:20260421T201910
CREATED:20260217T102954Z
LAST-MODIFIED:20260217T110049Z
UID:10000038-1793813400-1793817000@die-krawatte-wuppertal.de
SUMMARY:Krawatten Chor
DESCRIPTION:Im Krawattenchor kommen Menschen aus unterschiedlichen Kulturen zusammen\, um gemeinsam Lieder in vielen Sprachen zu singen. Musik verbindet\, überwindet Grenzen und schafft Gemeinschaft – genau das erleben wir jede Woche. Bei uns geht es nicht um Perfektion\, sondern um Freude\, Begegnung und das gute Gefühl\, zusammen zu klingen. \nWir treffen uns mittwochs von 17:00 bis 18:30 Uhr im Paul-Gerhardt-Haus der Ev. Kirchengemeinde Heckinghausen. \nAlle sind willkommen – ganz gleich\, welche Sprache sie sprechen oder wie viel Gesangserfahrung sie mitbringen.
URL:https://die-krawatte-wuppertal.de/event/krawatten-chor/2026-11-04/
ATTACH;FMTTYPE=image/webp:https://die-krawatte-wuppertal.de/wp-content/uploads/2026/02/Krawatten_Chor.webp
END:VEVENT
BEGIN:VEVENT
DTSTART;TZID=UTC:20261105T174500
DTEND;TZID=UTC:20261105T184500
DTSTAMP:20260421T201910
CREATED:20260217T110603Z
LAST-MODIFIED:20260217T110604Z
UID:10001142-1793900700-1793904300@die-krawatte-wuppertal.de
SUMMARY:Zumba
DESCRIPTION:Zumba in der Krawatte.\nJeden Donnerstag\nvon 17.45 bis 18.45 Uhr.
URL:https://die-krawatte-wuppertal.de/event/zumba/2026-11-05/
ATTACH;FMTTYPE=image/jpeg:https://die-krawatte-wuppertal.de/wp-content/uploads/2026/02/zumba.jpg
END:VEVENT
BEGIN:VEVENT
DTSTART;TZID=UTC:20261109T170000
DTEND;TZID=UTC:20261109T200000
DTSTAMP:20260421T201910
CREATED:20260217T104630Z
LAST-MODIFIED:20260217T110231Z
UID:10000301-1794243600-1794254400@die-krawatte-wuppertal.de
SUMMARY:Zirkus Wunderkind
DESCRIPTION:Bei uns könnt ihr lernen:\n• Akrobatik\n• Turnen\n• Jonglieren\n• Einradfahren\n• Luftakrobatik\n• Pantomime \nMontag\, Dienstag und Mittwoch\nvon 17.00 bis 20.00 Uhr. \nOrt: Die Krawatte | Bockmühle 17a | 42289 Wuppertal
URL:https://die-krawatte-wuppertal.de/event/zirkus-wunderkind/2026-11-09/
ATTACH;FMTTYPE=image/webp:https://die-krawatte-wuppertal.de/wp-content/uploads/2026/02/Zirkus_6.webp
END:VEVENT
BEGIN:VEVENT
DTSTART;TZID=UTC:20261110T160000
DTEND;TZID=UTC:20261110T173000
DTSTAMP:20260421T201910
CREATED:20260217T134019Z
LAST-MODIFIED:20260217T141630Z
UID:10001464-1794326400-1794331800@die-krawatte-wuppertal.de
SUMMARY:Frühförderung
DESCRIPTION:Unsere Frühförderangebote begleiten Kinder und Familien von Anfang an: Bereits in der Krabbelgruppe schaffen wir Räume für frühe Begegnung\, spielerisches Lernen und vertrauensvolle Begleitung. \nAb 2026 bieten wir zusätzlich eine Kindergruppe für arabisch sprechende Frauen an\, die den Austausch stärkt und den Einstieg in Bildung und Alltag unterstützt.
URL:https://die-krawatte-wuppertal.de/event/lernfoerderung/2026-11-10/
ATTACH;FMTTYPE=image/webp:https://die-krawatte-wuppertal.de/wp-content/uploads/2026/02/Lern_3.webp
END:VEVENT
BEGIN:VEVENT
DTSTART;TZID=UTC:20261110T170000
DTEND;TZID=UTC:20261110T200000
DTSTAMP:20260421T201910
CREATED:20260217T104630Z
LAST-MODIFIED:20260217T110231Z
UID:10000599-1794330000-1794340800@die-krawatte-wuppertal.de
SUMMARY:Zirkus Wunderkind
DESCRIPTION:Bei uns könnt ihr lernen:\n• Akrobatik\n• Turnen\n• Jonglieren\n• Einradfahren\n• Luftakrobatik\n• Pantomime \nMontag\, Dienstag und Mittwoch\nvon 17.00 bis 20.00 Uhr. \nOrt: Die Krawatte | Bockmühle 17a | 42289 Wuppertal
URL:https://die-krawatte-wuppertal.de/event/zirkus-wunderkind/2026-11-10/
ATTACH;FMTTYPE=image/webp:https://die-krawatte-wuppertal.de/wp-content/uploads/2026/02/Zirkus_6.webp
END:VEVENT
BEGIN:VEVENT
DTSTART;TZID=UTC:20261111T143000
DTEND;TZID=UTC:20261111T183000
DTSTAMP:20260421T201910
CREATED:20260217T140653Z
LAST-MODIFIED:20260217T140653Z
UID:10001710-1794407400-1794421800@die-krawatte-wuppertal.de
SUMMARY:Sankt-Martin-Feier
DESCRIPTION:Sankt-Martin-Feier in der Krawatte
URL:https://die-krawatte-wuppertal.de/event/sankt-martin-feier/
END:VEVENT
BEGIN:VEVENT
DTSTART;TZID=UTC:20261111T170000
DTEND;TZID=UTC:20261111T200000
DTSTAMP:20260421T201910
CREATED:20260217T104630Z
LAST-MODIFIED:20260217T110231Z
UID:10000600-1794416400-1794427200@die-krawatte-wuppertal.de
SUMMARY:Zirkus Wunderkind
DESCRIPTION:Bei uns könnt ihr lernen:\n• Akrobatik\n• Turnen\n• Jonglieren\n• Einradfahren\n• Luftakrobatik\n• Pantomime \nMontag\, Dienstag und Mittwoch\nvon 17.00 bis 20.00 Uhr. \nOrt: Die Krawatte | Bockmühle 17a | 42289 Wuppertal
URL:https://die-krawatte-wuppertal.de/event/zirkus-wunderkind/2026-11-11/
ATTACH;FMTTYPE=image/webp:https://die-krawatte-wuppertal.de/wp-content/uploads/2026/02/Zirkus_6.webp
END:VEVENT
BEGIN:VEVENT
DTSTART;TZID=UTC:20261111T173000
DTEND;TZID=UTC:20261111T183000
DTSTAMP:20260421T201910
CREATED:20260217T102954Z
LAST-MODIFIED:20260217T110049Z
UID:10000039-1794418200-1794421800@die-krawatte-wuppertal.de
SUMMARY:Krawatten Chor
DESCRIPTION:Im Krawattenchor kommen Menschen aus unterschiedlichen Kulturen zusammen\, um gemeinsam Lieder in vielen Sprachen zu singen. Musik verbindet\, überwindet Grenzen und schafft Gemeinschaft – genau das erleben wir jede Woche. Bei uns geht es nicht um Perfektion\, sondern um Freude\, Begegnung und das gute Gefühl\, zusammen zu klingen. \nWir treffen uns mittwochs von 17:00 bis 18:30 Uhr im Paul-Gerhardt-Haus der Ev. Kirchengemeinde Heckinghausen. \nAlle sind willkommen – ganz gleich\, welche Sprache sie sprechen oder wie viel Gesangserfahrung sie mitbringen.
URL:https://die-krawatte-wuppertal.de/event/krawatten-chor/2026-11-11/
ATTACH;FMTTYPE=image/webp:https://die-krawatte-wuppertal.de/wp-content/uploads/2026/02/Krawatten_Chor.webp
END:VEVENT
BEGIN:VEVENT
DTSTART;TZID=UTC:20261112T174500
DTEND;TZID=UTC:20261112T184500
DTSTAMP:20260421T201910
CREATED:20260217T110603Z
LAST-MODIFIED:20260217T110604Z
UID:10001143-1794505500-1794509100@die-krawatte-wuppertal.de
SUMMARY:Zumba
DESCRIPTION:Zumba in der Krawatte.\nJeden Donnerstag\nvon 17.45 bis 18.45 Uhr.
URL:https://die-krawatte-wuppertal.de/event/zumba/2026-11-12/
ATTACH;FMTTYPE=image/jpeg:https://die-krawatte-wuppertal.de/wp-content/uploads/2026/02/zumba.jpg
END:VEVENT
BEGIN:VEVENT
DTSTART;TZID=UTC:20261116T170000
DTEND;TZID=UTC:20261116T200000
DTSTAMP:20260421T201910
CREATED:20260217T104630Z
LAST-MODIFIED:20260217T110231Z
UID:10000302-1794848400-1794859200@die-krawatte-wuppertal.de
SUMMARY:Zirkus Wunderkind
DESCRIPTION:Bei uns könnt ihr lernen:\n• Akrobatik\n• Turnen\n• Jonglieren\n• Einradfahren\n• Luftakrobatik\n• Pantomime \nMontag\, Dienstag und Mittwoch\nvon 17.00 bis 20.00 Uhr. \nOrt: Die Krawatte | Bockmühle 17a | 42289 Wuppertal
URL:https://die-krawatte-wuppertal.de/event/zirkus-wunderkind/2026-11-16/
ATTACH;FMTTYPE=image/webp:https://die-krawatte-wuppertal.de/wp-content/uploads/2026/02/Zirkus_6.webp
END:VEVENT
BEGIN:VEVENT
DTSTART;TZID=UTC:20261117T160000
DTEND;TZID=UTC:20261117T173000
DTSTAMP:20260421T201910
CREATED:20260217T134019Z
LAST-MODIFIED:20260217T141630Z
UID:10001465-1794931200-1794936600@die-krawatte-wuppertal.de
SUMMARY:Frühförderung
DESCRIPTION:Unsere Frühförderangebote begleiten Kinder und Familien von Anfang an: Bereits in der Krabbelgruppe schaffen wir Räume für frühe Begegnung\, spielerisches Lernen und vertrauensvolle Begleitung. \nAb 2026 bieten wir zusätzlich eine Kindergruppe für arabisch sprechende Frauen an\, die den Austausch stärkt und den Einstieg in Bildung und Alltag unterstützt.
URL:https://die-krawatte-wuppertal.de/event/lernfoerderung/2026-11-17/
ATTACH;FMTTYPE=image/webp:https://die-krawatte-wuppertal.de/wp-content/uploads/2026/02/Lern_3.webp
END:VEVENT
BEGIN:VEVENT
DTSTART;TZID=UTC:20261117T170000
DTEND;TZID=UTC:20261117T200000
DTSTAMP:20260421T201910
CREATED:20260217T104630Z
LAST-MODIFIED:20260217T110231Z
UID:10000601-1794934800-1794945600@die-krawatte-wuppertal.de
SUMMARY:Zirkus Wunderkind
DESCRIPTION:Bei uns könnt ihr lernen:\n• Akrobatik\n• Turnen\n• Jonglieren\n• Einradfahren\n• Luftakrobatik\n• Pantomime \nMontag\, Dienstag und Mittwoch\nvon 17.00 bis 20.00 Uhr. \nOrt: Die Krawatte | Bockmühle 17a | 42289 Wuppertal
URL:https://die-krawatte-wuppertal.de/event/zirkus-wunderkind/2026-11-17/
ATTACH;FMTTYPE=image/webp:https://die-krawatte-wuppertal.de/wp-content/uploads/2026/02/Zirkus_6.webp
END:VEVENT
BEGIN:VEVENT
DTSTART;TZID=UTC:20261118T170000
DTEND;TZID=UTC:20261118T200000
DTSTAMP:20260421T201910
CREATED:20260217T104630Z
LAST-MODIFIED:20260217T110231Z
UID:10000602-1795021200-1795032000@die-krawatte-wuppertal.de
SUMMARY:Zirkus Wunderkind
DESCRIPTION:Bei uns könnt ihr lernen:\n• Akrobatik\n• Turnen\n• Jonglieren\n• Einradfahren\n• Luftakrobatik\n• Pantomime \nMontag\, Dienstag und Mittwoch\nvon 17.00 bis 20.00 Uhr. \nOrt: Die Krawatte | Bockmühle 17a | 42289 Wuppertal
URL:https://die-krawatte-wuppertal.de/event/zirkus-wunderkind/2026-11-18/
ATTACH;FMTTYPE=image/webp:https://die-krawatte-wuppertal.de/wp-content/uploads/2026/02/Zirkus_6.webp
END:VEVENT
BEGIN:VEVENT
DTSTART;TZID=UTC:20261118T173000
DTEND;TZID=UTC:20261118T183000
DTSTAMP:20260421T201910
CREATED:20260217T102954Z
LAST-MODIFIED:20260217T110049Z
UID:10000040-1795023000-1795026600@die-krawatte-wuppertal.de
SUMMARY:Krawatten Chor
DESCRIPTION:Im Krawattenchor kommen Menschen aus unterschiedlichen Kulturen zusammen\, um gemeinsam Lieder in vielen Sprachen zu singen. Musik verbindet\, überwindet Grenzen und schafft Gemeinschaft – genau das erleben wir jede Woche. Bei uns geht es nicht um Perfektion\, sondern um Freude\, Begegnung und das gute Gefühl\, zusammen zu klingen. \nWir treffen uns mittwochs von 17:00 bis 18:30 Uhr im Paul-Gerhardt-Haus der Ev. Kirchengemeinde Heckinghausen. \nAlle sind willkommen – ganz gleich\, welche Sprache sie sprechen oder wie viel Gesangserfahrung sie mitbringen.
URL:https://die-krawatte-wuppertal.de/event/krawatten-chor/2026-11-18/
ATTACH;FMTTYPE=image/webp:https://die-krawatte-wuppertal.de/wp-content/uploads/2026/02/Krawatten_Chor.webp
END:VEVENT
BEGIN:VEVENT
DTSTART;TZID=UTC:20261119T174500
DTEND;TZID=UTC:20261119T184500
DTSTAMP:20260421T201910
CREATED:20260217T110603Z
LAST-MODIFIED:20260217T110604Z
UID:10001144-1795110300-1795113900@die-krawatte-wuppertal.de
SUMMARY:Zumba
DESCRIPTION:Zumba in der Krawatte.\nJeden Donnerstag\nvon 17.45 bis 18.45 Uhr.
URL:https://die-krawatte-wuppertal.de/event/zumba/2026-11-19/
ATTACH;FMTTYPE=image/jpeg:https://die-krawatte-wuppertal.de/wp-content/uploads/2026/02/zumba.jpg
END:VEVENT
BEGIN:VEVENT
DTSTART;TZID=UTC:20261123T170000
DTEND;TZID=UTC:20261123T200000
DTSTAMP:20260421T201910
CREATED:20260217T104630Z
LAST-MODIFIED:20260217T110231Z
UID:10000303-1795453200-1795464000@die-krawatte-wuppertal.de
SUMMARY:Zirkus Wunderkind
DESCRIPTION:Bei uns könnt ihr lernen:\n• Akrobatik\n• Turnen\n• Jonglieren\n• Einradfahren\n• Luftakrobatik\n• Pantomime \nMontag\, Dienstag und Mittwoch\nvon 17.00 bis 20.00 Uhr. \nOrt: Die Krawatte | Bockmühle 17a | 42289 Wuppertal
URL:https://die-krawatte-wuppertal.de/event/zirkus-wunderkind/2026-11-23/
ATTACH;FMTTYPE=image/webp:https://die-krawatte-wuppertal.de/wp-content/uploads/2026/02/Zirkus_6.webp
END:VEVENT
BEGIN:VEVENT
DTSTART;TZID=UTC:20261124T160000
DTEND;TZID=UTC:20261124T173000
DTSTAMP:20260421T201910
CREATED:20260217T134019Z
LAST-MODIFIED:20260217T141630Z
UID:10001466-1795536000-1795541400@die-krawatte-wuppertal.de
SUMMARY:Frühförderung
DESCRIPTION:Unsere Frühförderangebote begleiten Kinder und Familien von Anfang an: Bereits in der Krabbelgruppe schaffen wir Räume für frühe Begegnung\, spielerisches Lernen und vertrauensvolle Begleitung. \nAb 2026 bieten wir zusätzlich eine Kindergruppe für arabisch sprechende Frauen an\, die den Austausch stärkt und den Einstieg in Bildung und Alltag unterstützt.
URL:https://die-krawatte-wuppertal.de/event/lernfoerderung/2026-11-24/
ATTACH;FMTTYPE=image/webp:https://die-krawatte-wuppertal.de/wp-content/uploads/2026/02/Lern_3.webp
END:VEVENT
BEGIN:VEVENT
DTSTART;TZID=UTC:20261124T170000
DTEND;TZID=UTC:20261124T200000
DTSTAMP:20260421T201910
CREATED:20260217T104630Z
LAST-MODIFIED:20260217T110231Z
UID:10000603-1795539600-1795550400@die-krawatte-wuppertal.de
SUMMARY:Zirkus Wunderkind
DESCRIPTION:Bei uns könnt ihr lernen:\n• Akrobatik\n• Turnen\n• Jonglieren\n• Einradfahren\n• Luftakrobatik\n• Pantomime \nMontag\, Dienstag und Mittwoch\nvon 17.00 bis 20.00 Uhr. \nOrt: Die Krawatte | Bockmühle 17a | 42289 Wuppertal
URL:https://die-krawatte-wuppertal.de/event/zirkus-wunderkind/2026-11-24/
ATTACH;FMTTYPE=image/webp:https://die-krawatte-wuppertal.de/wp-content/uploads/2026/02/Zirkus_6.webp
END:VEVENT
END:VCALENDAR