BEGIN:VCALENDAR
VERSION:2.0
PRODID:-//Die Krawatte Wuppertal - ECPv6.15.16//NONSGML v1.0//EN
CALSCALE:GREGORIAN
METHOD:PUBLISH
X-ORIGINAL-URL:https://die-krawatte-wuppertal.de
X-WR-CALDESC:Veranstaltungen für Die Krawatte Wuppertal
REFRESH-INTERVAL;VALUE=DURATION:PT1H
X-Robots-Tag:noindex
X-PUBLISHED-TTL:PT1H
BEGIN:VTIMEZONE
TZID:UTC
BEGIN:STANDARD
TZOFFSETFROM:+0000
TZOFFSETTO:+0000
TZNAME:UTC
DTSTART:20250101T000000
END:STANDARD
END:VTIMEZONE
BEGIN:VEVENT
DTSTART;TZID=UTC:20261001T174500
DTEND;TZID=UTC:20261001T184500
DTSTAMP:20260421T091022
CREATED:20260217T110603Z
LAST-MODIFIED:20260217T110604Z
UID:10001137-1790876700-1790880300@die-krawatte-wuppertal.de
SUMMARY:Zumba
DESCRIPTION:Zumba in der Krawatte.\nJeden Donnerstag\nvon 17.45 bis 18.45 Uhr.
URL:https://die-krawatte-wuppertal.de/event/zumba/2026-10-01/
ATTACH;FMTTYPE=image/jpeg:https://die-krawatte-wuppertal.de/wp-content/uploads/2026/02/zumba.jpg
END:VEVENT
BEGIN:VEVENT
DTSTART;TZID=UTC:20261004T103000
DTEND;TZID=UTC:20261004T123000
DTSTAMP:20260421T091022
CREATED:20260217T140420Z
LAST-MODIFIED:20260217T140420Z
UID:10001706-1791109800-1791117000@die-krawatte-wuppertal.de
SUMMARY:Erntedankgottesdienst
DESCRIPTION:Erntedankgottesdienst in der Krawatte
URL:https://die-krawatte-wuppertal.de/event/erntedankgottesdienst/
END:VEVENT
BEGIN:VEVENT
DTSTART;TZID=UTC:20261004T130000
DTEND;TZID=UTC:20261004T170000
DTSTAMP:20260421T091022
CREATED:20260217T105938Z
LAST-MODIFIED:20260217T105939Z
UID:10001052-1791118800-1791133200@die-krawatte-wuppertal.de
SUMMARY:TechCafé
DESCRIPTION:TechCafé: Dein Einstieg in die IT-Welt – kostenlos und für jeden! \nDas TechCafé bietet kostenlose IT-Kurse und Unterstützung für alle an\, die sich in der digitalen Welt besser zurechtfinden möchten. Unser Angebot umfasst die individuelle Beratung und Fehlersuche für Geräte wie Computer\, Laptops und Tablets sowie umfassende Beratung zur sicheren Softwarenutzung und IT-Sicherheit. Wir unterstützen dich bei der Webseitengestaltung\, beraten bei digitalen Projekten und bieten Schulungen in einfacher Programmierung sowie Einführungen in gängige Anwendungen an. \nDarüber hinaus vermitteln wir praktische Kenntnisse in der Datenverarbeitung mit Fokus auf Cloud-Anwendungen\, CSV-Bearbeitung und Datenkonvertierung. Wir helfen dir dabei\, Programme zu erlernen\, die für den täglichen Gebrauch wichtig sind. Auch bei der Technik selbst lassen wir dich nicht im Stich: Wir führen kleinere Hardware-Reparaturen durch\, tauschen Bauteile aus (sofern verfügbar) und kümmern uns um die Fehlerbehebung sowie die regelmäßige Wartung deiner Geräte\, um deren Lebensdauer zu verlängern. \nWann? Jeden ersten Sonntag im Monat von 13:00 bis 17:00 Uhr.
URL:https://die-krawatte-wuppertal.de/event/techcafe/2026-10-04/
ATTACH;FMTTYPE=image/jpeg:https://die-krawatte-wuppertal.de/wp-content/uploads/2026/02/techcafe.jpg
END:VEVENT
BEGIN:VEVENT
DTSTART;TZID=UTC:20261005T170000
DTEND;TZID=UTC:20261005T200000
DTSTAMP:20260421T091022
CREATED:20260217T104630Z
LAST-MODIFIED:20260217T110231Z
UID:10000296-1791219600-1791230400@die-krawatte-wuppertal.de
SUMMARY:Zirkus Wunderkind
DESCRIPTION:Bei uns könnt ihr lernen:\n• Akrobatik\n• Turnen\n• Jonglieren\n• Einradfahren\n• Luftakrobatik\n• Pantomime \nMontag\, Dienstag und Mittwoch\nvon 17.00 bis 20.00 Uhr. \nOrt: Die Krawatte | Bockmühle 17a | 42289 Wuppertal
URL:https://die-krawatte-wuppertal.de/event/zirkus-wunderkind/2026-10-05/
ATTACH;FMTTYPE=image/webp:https://die-krawatte-wuppertal.de/wp-content/uploads/2026/02/Zirkus_6.webp
END:VEVENT
BEGIN:VEVENT
DTSTART;TZID=UTC:20261006T160000
DTEND;TZID=UTC:20261006T173000
DTSTAMP:20260421T091022
CREATED:20260217T134019Z
LAST-MODIFIED:20260217T141630Z
UID:10001459-1791302400-1791307800@die-krawatte-wuppertal.de
SUMMARY:Frühförderung
DESCRIPTION:Unsere Frühförderangebote begleiten Kinder und Familien von Anfang an: Bereits in der Krabbelgruppe schaffen wir Räume für frühe Begegnung\, spielerisches Lernen und vertrauensvolle Begleitung. \nAb 2026 bieten wir zusätzlich eine Kindergruppe für arabisch sprechende Frauen an\, die den Austausch stärkt und den Einstieg in Bildung und Alltag unterstützt.
URL:https://die-krawatte-wuppertal.de/event/lernfoerderung/2026-10-06/
ATTACH;FMTTYPE=image/webp:https://die-krawatte-wuppertal.de/wp-content/uploads/2026/02/Lern_3.webp
END:VEVENT
BEGIN:VEVENT
DTSTART;TZID=UTC:20261006T170000
DTEND;TZID=UTC:20261006T200000
DTSTAMP:20260421T091022
CREATED:20260217T104630Z
LAST-MODIFIED:20260217T110231Z
UID:10000589-1791306000-1791316800@die-krawatte-wuppertal.de
SUMMARY:Zirkus Wunderkind
DESCRIPTION:Bei uns könnt ihr lernen:\n• Akrobatik\n• Turnen\n• Jonglieren\n• Einradfahren\n• Luftakrobatik\n• Pantomime \nMontag\, Dienstag und Mittwoch\nvon 17.00 bis 20.00 Uhr. \nOrt: Die Krawatte | Bockmühle 17a | 42289 Wuppertal
URL:https://die-krawatte-wuppertal.de/event/zirkus-wunderkind/2026-10-06/
ATTACH;FMTTYPE=image/webp:https://die-krawatte-wuppertal.de/wp-content/uploads/2026/02/Zirkus_6.webp
END:VEVENT
BEGIN:VEVENT
DTSTART;TZID=UTC:20261007T170000
DTEND;TZID=UTC:20261007T200000
DTSTAMP:20260421T091022
CREATED:20260217T104630Z
LAST-MODIFIED:20260217T110231Z
UID:10000590-1791392400-1791403200@die-krawatte-wuppertal.de
SUMMARY:Zirkus Wunderkind
DESCRIPTION:Bei uns könnt ihr lernen:\n• Akrobatik\n• Turnen\n• Jonglieren\n• Einradfahren\n• Luftakrobatik\n• Pantomime \nMontag\, Dienstag und Mittwoch\nvon 17.00 bis 20.00 Uhr. \nOrt: Die Krawatte | Bockmühle 17a | 42289 Wuppertal
URL:https://die-krawatte-wuppertal.de/event/zirkus-wunderkind/2026-10-07/
ATTACH;FMTTYPE=image/webp:https://die-krawatte-wuppertal.de/wp-content/uploads/2026/02/Zirkus_6.webp
END:VEVENT
BEGIN:VEVENT
DTSTART;TZID=UTC:20261007T173000
DTEND;TZID=UTC:20261007T183000
DTSTAMP:20260421T091022
CREATED:20260217T102954Z
LAST-MODIFIED:20260217T110049Z
UID:10000034-1791394200-1791397800@die-krawatte-wuppertal.de
SUMMARY:Krawatten Chor
DESCRIPTION:Im Krawattenchor kommen Menschen aus unterschiedlichen Kulturen zusammen\, um gemeinsam Lieder in vielen Sprachen zu singen. Musik verbindet\, überwindet Grenzen und schafft Gemeinschaft – genau das erleben wir jede Woche. Bei uns geht es nicht um Perfektion\, sondern um Freude\, Begegnung und das gute Gefühl\, zusammen zu klingen. \nWir treffen uns mittwochs von 17:00 bis 18:30 Uhr im Paul-Gerhardt-Haus der Ev. Kirchengemeinde Heckinghausen. \nAlle sind willkommen – ganz gleich\, welche Sprache sie sprechen oder wie viel Gesangserfahrung sie mitbringen.
URL:https://die-krawatte-wuppertal.de/event/krawatten-chor/2026-10-07/
ATTACH;FMTTYPE=image/webp:https://die-krawatte-wuppertal.de/wp-content/uploads/2026/02/Krawatten_Chor.webp
END:VEVENT
BEGIN:VEVENT
DTSTART;TZID=UTC:20261008T174500
DTEND;TZID=UTC:20261008T184500
DTSTAMP:20260421T091022
CREATED:20260217T110603Z
LAST-MODIFIED:20260217T110604Z
UID:10001138-1791481500-1791485100@die-krawatte-wuppertal.de
SUMMARY:Zumba
DESCRIPTION:Zumba in der Krawatte.\nJeden Donnerstag\nvon 17.45 bis 18.45 Uhr.
URL:https://die-krawatte-wuppertal.de/event/zumba/2026-10-08/
ATTACH;FMTTYPE=image/jpeg:https://die-krawatte-wuppertal.de/wp-content/uploads/2026/02/zumba.jpg
END:VEVENT
BEGIN:VEVENT
DTSTART;TZID=UTC:20261009T180000
DTEND;TZID=UTC:20261009T203000
DTSTAMP:20260421T091022
CREATED:20260217T140459Z
LAST-MODIFIED:20260217T140459Z
UID:10001707-1791568800-1791577800@die-krawatte-wuppertal.de
SUMMARY:Beautyday für Frauen
DESCRIPTION:Beautyday für Frauen in der Krawatte
URL:https://die-krawatte-wuppertal.de/event/beautyday-fuer-frauen/
END:VEVENT
BEGIN:VEVENT
DTSTART;TZID=UTC:20261012T170000
DTEND;TZID=UTC:20261012T200000
DTSTAMP:20260421T091022
CREATED:20260217T104630Z
LAST-MODIFIED:20260217T110231Z
UID:10000297-1791824400-1791835200@die-krawatte-wuppertal.de
SUMMARY:Zirkus Wunderkind
DESCRIPTION:Bei uns könnt ihr lernen:\n• Akrobatik\n• Turnen\n• Jonglieren\n• Einradfahren\n• Luftakrobatik\n• Pantomime \nMontag\, Dienstag und Mittwoch\nvon 17.00 bis 20.00 Uhr. \nOrt: Die Krawatte | Bockmühle 17a | 42289 Wuppertal
URL:https://die-krawatte-wuppertal.de/event/zirkus-wunderkind/2026-10-12/
ATTACH;FMTTYPE=image/webp:https://die-krawatte-wuppertal.de/wp-content/uploads/2026/02/Zirkus_6.webp
END:VEVENT
BEGIN:VEVENT
DTSTART;TZID=UTC:20261013T160000
DTEND;TZID=UTC:20261013T173000
DTSTAMP:20260421T091022
CREATED:20260217T134019Z
LAST-MODIFIED:20260217T141630Z
UID:10001460-1791907200-1791912600@die-krawatte-wuppertal.de
SUMMARY:Frühförderung
DESCRIPTION:Unsere Frühförderangebote begleiten Kinder und Familien von Anfang an: Bereits in der Krabbelgruppe schaffen wir Räume für frühe Begegnung\, spielerisches Lernen und vertrauensvolle Begleitung. \nAb 2026 bieten wir zusätzlich eine Kindergruppe für arabisch sprechende Frauen an\, die den Austausch stärkt und den Einstieg in Bildung und Alltag unterstützt.
URL:https://die-krawatte-wuppertal.de/event/lernfoerderung/2026-10-13/
ATTACH;FMTTYPE=image/webp:https://die-krawatte-wuppertal.de/wp-content/uploads/2026/02/Lern_3.webp
END:VEVENT
BEGIN:VEVENT
DTSTART;TZID=UTC:20261013T170000
DTEND;TZID=UTC:20261013T200000
DTSTAMP:20260421T091022
CREATED:20260217T104630Z
LAST-MODIFIED:20260217T110231Z
UID:10000591-1791910800-1791921600@die-krawatte-wuppertal.de
SUMMARY:Zirkus Wunderkind
DESCRIPTION:Bei uns könnt ihr lernen:\n• Akrobatik\n• Turnen\n• Jonglieren\n• Einradfahren\n• Luftakrobatik\n• Pantomime \nMontag\, Dienstag und Mittwoch\nvon 17.00 bis 20.00 Uhr. \nOrt: Die Krawatte | Bockmühle 17a | 42289 Wuppertal
URL:https://die-krawatte-wuppertal.de/event/zirkus-wunderkind/2026-10-13/
ATTACH;FMTTYPE=image/webp:https://die-krawatte-wuppertal.de/wp-content/uploads/2026/02/Zirkus_6.webp
END:VEVENT
BEGIN:VEVENT
DTSTART;TZID=UTC:20261014T170000
DTEND;TZID=UTC:20261014T200000
DTSTAMP:20260421T091022
CREATED:20260217T104630Z
LAST-MODIFIED:20260217T110231Z
UID:10000592-1791997200-1792008000@die-krawatte-wuppertal.de
SUMMARY:Zirkus Wunderkind
DESCRIPTION:Bei uns könnt ihr lernen:\n• Akrobatik\n• Turnen\n• Jonglieren\n• Einradfahren\n• Luftakrobatik\n• Pantomime \nMontag\, Dienstag und Mittwoch\nvon 17.00 bis 20.00 Uhr. \nOrt: Die Krawatte | Bockmühle 17a | 42289 Wuppertal
URL:https://die-krawatte-wuppertal.de/event/zirkus-wunderkind/2026-10-14/
ATTACH;FMTTYPE=image/webp:https://die-krawatte-wuppertal.de/wp-content/uploads/2026/02/Zirkus_6.webp
END:VEVENT
BEGIN:VEVENT
DTSTART;TZID=UTC:20261014T173000
DTEND;TZID=UTC:20261014T183000
DTSTAMP:20260421T091022
CREATED:20260217T102954Z
LAST-MODIFIED:20260217T110049Z
UID:10000035-1791999000-1792002600@die-krawatte-wuppertal.de
SUMMARY:Krawatten Chor
DESCRIPTION:Im Krawattenchor kommen Menschen aus unterschiedlichen Kulturen zusammen\, um gemeinsam Lieder in vielen Sprachen zu singen. Musik verbindet\, überwindet Grenzen und schafft Gemeinschaft – genau das erleben wir jede Woche. Bei uns geht es nicht um Perfektion\, sondern um Freude\, Begegnung und das gute Gefühl\, zusammen zu klingen. \nWir treffen uns mittwochs von 17:00 bis 18:30 Uhr im Paul-Gerhardt-Haus der Ev. Kirchengemeinde Heckinghausen. \nAlle sind willkommen – ganz gleich\, welche Sprache sie sprechen oder wie viel Gesangserfahrung sie mitbringen.
URL:https://die-krawatte-wuppertal.de/event/krawatten-chor/2026-10-14/
ATTACH;FMTTYPE=image/webp:https://die-krawatte-wuppertal.de/wp-content/uploads/2026/02/Krawatten_Chor.webp
END:VEVENT
BEGIN:VEVENT
DTSTART;TZID=UTC:20261015T174500
DTEND;TZID=UTC:20261015T184500
DTSTAMP:20260421T091022
CREATED:20260217T110603Z
LAST-MODIFIED:20260217T110604Z
UID:10001139-1792086300-1792089900@die-krawatte-wuppertal.de
SUMMARY:Zumba
DESCRIPTION:Zumba in der Krawatte.\nJeden Donnerstag\nvon 17.45 bis 18.45 Uhr.
URL:https://die-krawatte-wuppertal.de/event/zumba/2026-10-15/
ATTACH;FMTTYPE=image/jpeg:https://die-krawatte-wuppertal.de/wp-content/uploads/2026/02/zumba.jpg
END:VEVENT
BEGIN:VEVENT
DTSTART;VALUE=DATE:20261016
DTEND;VALUE=DATE:20261019
DTSTAMP:20260421T091022
CREATED:20260217T140542Z
LAST-MODIFIED:20260217T140542Z
UID:10001708-1792108800-1792367999@die-krawatte-wuppertal.de
SUMMARY:Berlinfahrt Jugendliche
DESCRIPTION:Berlinfahrt Jugendliche
URL:https://die-krawatte-wuppertal.de/event/berlinfahrt-jugendliche/
END:VEVENT
BEGIN:VEVENT
DTSTART;TZID=UTC:20261019T170000
DTEND;TZID=UTC:20261019T200000
DTSTAMP:20260421T091022
CREATED:20260217T104630Z
LAST-MODIFIED:20260217T110231Z
UID:10000298-1792429200-1792440000@die-krawatte-wuppertal.de
SUMMARY:Zirkus Wunderkind
DESCRIPTION:Bei uns könnt ihr lernen:\n• Akrobatik\n• Turnen\n• Jonglieren\n• Einradfahren\n• Luftakrobatik\n• Pantomime \nMontag\, Dienstag und Mittwoch\nvon 17.00 bis 20.00 Uhr. \nOrt: Die Krawatte | Bockmühle 17a | 42289 Wuppertal
URL:https://die-krawatte-wuppertal.de/event/zirkus-wunderkind/2026-10-19/
ATTACH;FMTTYPE=image/webp:https://die-krawatte-wuppertal.de/wp-content/uploads/2026/02/Zirkus_6.webp
END:VEVENT
BEGIN:VEVENT
DTSTART;TZID=UTC:20261020T160000
DTEND;TZID=UTC:20261020T173000
DTSTAMP:20260421T091022
CREATED:20260217T134019Z
LAST-MODIFIED:20260217T141630Z
UID:10001461-1792512000-1792517400@die-krawatte-wuppertal.de
SUMMARY:Frühförderung
DESCRIPTION:Unsere Frühförderangebote begleiten Kinder und Familien von Anfang an: Bereits in der Krabbelgruppe schaffen wir Räume für frühe Begegnung\, spielerisches Lernen und vertrauensvolle Begleitung. \nAb 2026 bieten wir zusätzlich eine Kindergruppe für arabisch sprechende Frauen an\, die den Austausch stärkt und den Einstieg in Bildung und Alltag unterstützt.
URL:https://die-krawatte-wuppertal.de/event/lernfoerderung/2026-10-20/
ATTACH;FMTTYPE=image/webp:https://die-krawatte-wuppertal.de/wp-content/uploads/2026/02/Lern_3.webp
END:VEVENT
BEGIN:VEVENT
DTSTART;TZID=UTC:20261020T170000
DTEND;TZID=UTC:20261020T200000
DTSTAMP:20260421T091022
CREATED:20260217T104630Z
LAST-MODIFIED:20260217T110231Z
UID:10000593-1792515600-1792526400@die-krawatte-wuppertal.de
SUMMARY:Zirkus Wunderkind
DESCRIPTION:Bei uns könnt ihr lernen:\n• Akrobatik\n• Turnen\n• Jonglieren\n• Einradfahren\n• Luftakrobatik\n• Pantomime \nMontag\, Dienstag und Mittwoch\nvon 17.00 bis 20.00 Uhr. \nOrt: Die Krawatte | Bockmühle 17a | 42289 Wuppertal
URL:https://die-krawatte-wuppertal.de/event/zirkus-wunderkind/2026-10-20/
ATTACH;FMTTYPE=image/webp:https://die-krawatte-wuppertal.de/wp-content/uploads/2026/02/Zirkus_6.webp
END:VEVENT
BEGIN:VEVENT
DTSTART;TZID=UTC:20261021T170000
DTEND;TZID=UTC:20261021T200000
DTSTAMP:20260421T091022
CREATED:20260217T104630Z
LAST-MODIFIED:20260217T110231Z
UID:10000594-1792602000-1792612800@die-krawatte-wuppertal.de
SUMMARY:Zirkus Wunderkind
DESCRIPTION:Bei uns könnt ihr lernen:\n• Akrobatik\n• Turnen\n• Jonglieren\n• Einradfahren\n• Luftakrobatik\n• Pantomime \nMontag\, Dienstag und Mittwoch\nvon 17.00 bis 20.00 Uhr. \nOrt: Die Krawatte | Bockmühle 17a | 42289 Wuppertal
URL:https://die-krawatte-wuppertal.de/event/zirkus-wunderkind/2026-10-21/
ATTACH;FMTTYPE=image/webp:https://die-krawatte-wuppertal.de/wp-content/uploads/2026/02/Zirkus_6.webp
END:VEVENT
BEGIN:VEVENT
DTSTART;TZID=UTC:20261021T173000
DTEND;TZID=UTC:20261021T183000
DTSTAMP:20260421T091022
CREATED:20260217T102954Z
LAST-MODIFIED:20260217T110049Z
UID:10000036-1792603800-1792607400@die-krawatte-wuppertal.de
SUMMARY:Krawatten Chor
DESCRIPTION:Im Krawattenchor kommen Menschen aus unterschiedlichen Kulturen zusammen\, um gemeinsam Lieder in vielen Sprachen zu singen. Musik verbindet\, überwindet Grenzen und schafft Gemeinschaft – genau das erleben wir jede Woche. Bei uns geht es nicht um Perfektion\, sondern um Freude\, Begegnung und das gute Gefühl\, zusammen zu klingen. \nWir treffen uns mittwochs von 17:00 bis 18:30 Uhr im Paul-Gerhardt-Haus der Ev. Kirchengemeinde Heckinghausen. \nAlle sind willkommen – ganz gleich\, welche Sprache sie sprechen oder wie viel Gesangserfahrung sie mitbringen.
URL:https://die-krawatte-wuppertal.de/event/krawatten-chor/2026-10-21/
ATTACH;FMTTYPE=image/webp:https://die-krawatte-wuppertal.de/wp-content/uploads/2026/02/Krawatten_Chor.webp
END:VEVENT
BEGIN:VEVENT
DTSTART;TZID=UTC:20261022T174500
DTEND;TZID=UTC:20261022T184500
DTSTAMP:20260421T091022
CREATED:20260217T110603Z
LAST-MODIFIED:20260217T110604Z
UID:10001140-1792691100-1792694700@die-krawatte-wuppertal.de
SUMMARY:Zumba
DESCRIPTION:Zumba in der Krawatte.\nJeden Donnerstag\nvon 17.45 bis 18.45 Uhr.
URL:https://die-krawatte-wuppertal.de/event/zumba/2026-10-22/
ATTACH;FMTTYPE=image/jpeg:https://die-krawatte-wuppertal.de/wp-content/uploads/2026/02/zumba.jpg
END:VEVENT
BEGIN:VEVENT
DTSTART;TZID=UTC:20261023T150000
DTEND;TZID=UTC:20261023T170000
DTSTAMP:20260421T091022
CREATED:20260217T133526Z
LAST-MODIFIED:20260217T133604Z
UID:10001374-1792767600-1792774800@die-krawatte-wuppertal.de
SUMMARY:Krawattencafé
DESCRIPTION:Die Krawatte\, eine ehemalige Krawattenfabrik im Wuppertaler Osten\, ist heute ein lebendiger Ort der interkulturellen und interreligiösen Begegnung. Hier kommen Menschen unterschiedlicher Herkunft\, Generationen und Lebensgeschichten zusammen: Besucher*innen mit und ohne Fluchterfahrung\, Jung und Alt\, in Wuppertal Aufgewachsene ebenso wie neu Zugewanderte. Sie begegnen sich\, tauschen sich aus\, feiern gemeinsam und entwickeln Ideen für ihr Quartier. \nIm gemeinsamen Miteinander werden Unterschiede überbrückt und das Gefühl von Zusammenhalt gestärkt. Dabei entstehen Verbindungen und Freundschaften\, die im Alltag sonst kaum möglich wären. Die Angebote der Krawatte spiegeln diese Vielfalt wider: In einem Marionettenprojekt gestalten rund 30 Frauen ihre eigenen Figuren und erzählen damit persönliche Lebensgeschichten. Im Krawatten-Café wird gespielt\, Deutsch gelernt\, beraten und kreativ gearbeitet. \nTermin: Immer letzter Freitag im Monat\, von 15-17 Uhr.
URL:https://die-krawatte-wuppertal.de/event/krawattencafe/2026-10-23/
ATTACH;FMTTYPE=image/webp:https://die-krawatte-wuppertal.de/wp-content/uploads/2026/02/cafe_3.webp
END:VEVENT
BEGIN:VEVENT
DTSTART;TZID=UTC:20261026T170000
DTEND;TZID=UTC:20261026T200000
DTSTAMP:20260421T091022
CREATED:20260217T104630Z
LAST-MODIFIED:20260217T110231Z
UID:10000299-1793034000-1793044800@die-krawatte-wuppertal.de
SUMMARY:Zirkus Wunderkind
DESCRIPTION:Bei uns könnt ihr lernen:\n• Akrobatik\n• Turnen\n• Jonglieren\n• Einradfahren\n• Luftakrobatik\n• Pantomime \nMontag\, Dienstag und Mittwoch\nvon 17.00 bis 20.00 Uhr. \nOrt: Die Krawatte | Bockmühle 17a | 42289 Wuppertal
URL:https://die-krawatte-wuppertal.de/event/zirkus-wunderkind/2026-10-26/
ATTACH;FMTTYPE=image/webp:https://die-krawatte-wuppertal.de/wp-content/uploads/2026/02/Zirkus_6.webp
END:VEVENT
BEGIN:VEVENT
DTSTART;TZID=UTC:20261027T160000
DTEND;TZID=UTC:20261027T173000
DTSTAMP:20260421T091022
CREATED:20260217T134019Z
LAST-MODIFIED:20260217T141630Z
UID:10001462-1793116800-1793122200@die-krawatte-wuppertal.de
SUMMARY:Frühförderung
DESCRIPTION:Unsere Frühförderangebote begleiten Kinder und Familien von Anfang an: Bereits in der Krabbelgruppe schaffen wir Räume für frühe Begegnung\, spielerisches Lernen und vertrauensvolle Begleitung. \nAb 2026 bieten wir zusätzlich eine Kindergruppe für arabisch sprechende Frauen an\, die den Austausch stärkt und den Einstieg in Bildung und Alltag unterstützt.
URL:https://die-krawatte-wuppertal.de/event/lernfoerderung/2026-10-27/
ATTACH;FMTTYPE=image/webp:https://die-krawatte-wuppertal.de/wp-content/uploads/2026/02/Lern_3.webp
END:VEVENT
BEGIN:VEVENT
DTSTART;TZID=UTC:20261027T170000
DTEND;TZID=UTC:20261027T200000
DTSTAMP:20260421T091022
CREATED:20260217T104630Z
LAST-MODIFIED:20260217T110231Z
UID:10000595-1793120400-1793131200@die-krawatte-wuppertal.de
SUMMARY:Zirkus Wunderkind
DESCRIPTION:Bei uns könnt ihr lernen:\n• Akrobatik\n• Turnen\n• Jonglieren\n• Einradfahren\n• Luftakrobatik\n• Pantomime \nMontag\, Dienstag und Mittwoch\nvon 17.00 bis 20.00 Uhr. \nOrt: Die Krawatte | Bockmühle 17a | 42289 Wuppertal
URL:https://die-krawatte-wuppertal.de/event/zirkus-wunderkind/2026-10-27/
ATTACH;FMTTYPE=image/webp:https://die-krawatte-wuppertal.de/wp-content/uploads/2026/02/Zirkus_6.webp
END:VEVENT
BEGIN:VEVENT
DTSTART;TZID=UTC:20261028T170000
DTEND;TZID=UTC:20261028T200000
DTSTAMP:20260421T091022
CREATED:20260217T104630Z
LAST-MODIFIED:20260217T110231Z
UID:10000596-1793206800-1793217600@die-krawatte-wuppertal.de
SUMMARY:Zirkus Wunderkind
DESCRIPTION:Bei uns könnt ihr lernen:\n• Akrobatik\n• Turnen\n• Jonglieren\n• Einradfahren\n• Luftakrobatik\n• Pantomime \nMontag\, Dienstag und Mittwoch\nvon 17.00 bis 20.00 Uhr. \nOrt: Die Krawatte | Bockmühle 17a | 42289 Wuppertal
URL:https://die-krawatte-wuppertal.de/event/zirkus-wunderkind/2026-10-28/
ATTACH;FMTTYPE=image/webp:https://die-krawatte-wuppertal.de/wp-content/uploads/2026/02/Zirkus_6.webp
END:VEVENT
BEGIN:VEVENT
DTSTART;TZID=UTC:20261028T173000
DTEND;TZID=UTC:20261028T183000
DTSTAMP:20260421T091022
CREATED:20260217T102954Z
LAST-MODIFIED:20260217T110049Z
UID:10000037-1793208600-1793212200@die-krawatte-wuppertal.de
SUMMARY:Krawatten Chor
DESCRIPTION:Im Krawattenchor kommen Menschen aus unterschiedlichen Kulturen zusammen\, um gemeinsam Lieder in vielen Sprachen zu singen. Musik verbindet\, überwindet Grenzen und schafft Gemeinschaft – genau das erleben wir jede Woche. Bei uns geht es nicht um Perfektion\, sondern um Freude\, Begegnung und das gute Gefühl\, zusammen zu klingen. \nWir treffen uns mittwochs von 17:00 bis 18:30 Uhr im Paul-Gerhardt-Haus der Ev. Kirchengemeinde Heckinghausen. \nAlle sind willkommen – ganz gleich\, welche Sprache sie sprechen oder wie viel Gesangserfahrung sie mitbringen.
URL:https://die-krawatte-wuppertal.de/event/krawatten-chor/2026-10-28/
ATTACH;FMTTYPE=image/webp:https://die-krawatte-wuppertal.de/wp-content/uploads/2026/02/Krawatten_Chor.webp
END:VEVENT
BEGIN:VEVENT
DTSTART;TZID=UTC:20261029T174500
DTEND;TZID=UTC:20261029T184500
DTSTAMP:20260421T091022
CREATED:20260217T110603Z
LAST-MODIFIED:20260217T110604Z
UID:10001141-1793295900-1793299500@die-krawatte-wuppertal.de
SUMMARY:Zumba
DESCRIPTION:Zumba in der Krawatte.\nJeden Donnerstag\nvon 17.45 bis 18.45 Uhr.
URL:https://die-krawatte-wuppertal.de/event/zumba/2026-10-29/
ATTACH;FMTTYPE=image/jpeg:https://die-krawatte-wuppertal.de/wp-content/uploads/2026/02/zumba.jpg
END:VEVENT
END:VCALENDAR