BEGIN:VCALENDAR
VERSION:2.0
PRODID:-//Die Krawatte Wuppertal - ECPv6.15.16//NONSGML v1.0//EN
CALSCALE:GREGORIAN
METHOD:PUBLISH
X-ORIGINAL-URL:https://die-krawatte-wuppertal.de
X-WR-CALDESC:Veranstaltungen für Die Krawatte Wuppertal
REFRESH-INTERVAL;VALUE=DURATION:PT1H
X-Robots-Tag:noindex
X-PUBLISHED-TTL:PT1H
BEGIN:VTIMEZONE
TZID:UTC
BEGIN:STANDARD
TZOFFSETFROM:+0000
TZOFFSETTO:+0000
TZNAME:UTC
DTSTART:20260101T000000
END:STANDARD
END:VTIMEZONE
BEGIN:VEVENT
DTSTART;TZID=UTC:20270201T170000
DTEND;TZID=UTC:20270201T200000
DTSTAMP:20260421T163439
CREATED:20260217T104630Z
LAST-MODIFIED:20260217T110231Z
UID:10000313-1801501200-1801512000@die-krawatte-wuppertal.de
SUMMARY:Zirkus Wunderkind
DESCRIPTION:Bei uns könnt ihr lernen:\n• Akrobatik\n• Turnen\n• Jonglieren\n• Einradfahren\n• Luftakrobatik\n• Pantomime \nMontag\, Dienstag und Mittwoch\nvon 17.00 bis 20.00 Uhr. \nOrt: Die Krawatte | Bockmühle 17a | 42289 Wuppertal
URL:https://die-krawatte-wuppertal.de/event/zirkus-wunderkind/2027-02-01/
ATTACH;FMTTYPE=image/webp:https://die-krawatte-wuppertal.de/wp-content/uploads/2026/02/Zirkus_6.webp
END:VEVENT
BEGIN:VEVENT
DTSTART;TZID=UTC:20270202T160000
DTEND;TZID=UTC:20270202T173000
DTSTAMP:20260421T163439
CREATED:20260217T134019Z
LAST-MODIFIED:20260217T141630Z
UID:10001476-1801584000-1801589400@die-krawatte-wuppertal.de
SUMMARY:Frühförderung
DESCRIPTION:Unsere Frühförderangebote begleiten Kinder und Familien von Anfang an: Bereits in der Krabbelgruppe schaffen wir Räume für frühe Begegnung\, spielerisches Lernen und vertrauensvolle Begleitung. \nAb 2026 bieten wir zusätzlich eine Kindergruppe für arabisch sprechende Frauen an\, die den Austausch stärkt und den Einstieg in Bildung und Alltag unterstützt.
URL:https://die-krawatte-wuppertal.de/event/lernfoerderung/2027-02-02/
ATTACH;FMTTYPE=image/webp:https://die-krawatte-wuppertal.de/wp-content/uploads/2026/02/Lern_3.webp
END:VEVENT
BEGIN:VEVENT
DTSTART;TZID=UTC:20270202T170000
DTEND;TZID=UTC:20270202T200000
DTSTAMP:20260421T163439
CREATED:20260217T104630Z
LAST-MODIFIED:20260217T110231Z
UID:10000623-1801587600-1801598400@die-krawatte-wuppertal.de
SUMMARY:Zirkus Wunderkind
DESCRIPTION:Bei uns könnt ihr lernen:\n• Akrobatik\n• Turnen\n• Jonglieren\n• Einradfahren\n• Luftakrobatik\n• Pantomime \nMontag\, Dienstag und Mittwoch\nvon 17.00 bis 20.00 Uhr. \nOrt: Die Krawatte | Bockmühle 17a | 42289 Wuppertal
URL:https://die-krawatte-wuppertal.de/event/zirkus-wunderkind/2027-02-02/
ATTACH;FMTTYPE=image/webp:https://die-krawatte-wuppertal.de/wp-content/uploads/2026/02/Zirkus_6.webp
END:VEVENT
BEGIN:VEVENT
DTSTART;TZID=UTC:20270203T170000
DTEND;TZID=UTC:20270203T200000
DTSTAMP:20260421T163439
CREATED:20260217T104630Z
LAST-MODIFIED:20260217T110231Z
UID:10000624-1801674000-1801684800@die-krawatte-wuppertal.de
SUMMARY:Zirkus Wunderkind
DESCRIPTION:Bei uns könnt ihr lernen:\n• Akrobatik\n• Turnen\n• Jonglieren\n• Einradfahren\n• Luftakrobatik\n• Pantomime \nMontag\, Dienstag und Mittwoch\nvon 17.00 bis 20.00 Uhr. \nOrt: Die Krawatte | Bockmühle 17a | 42289 Wuppertal
URL:https://die-krawatte-wuppertal.de/event/zirkus-wunderkind/2027-02-03/
ATTACH;FMTTYPE=image/webp:https://die-krawatte-wuppertal.de/wp-content/uploads/2026/02/Zirkus_6.webp
END:VEVENT
BEGIN:VEVENT
DTSTART;TZID=UTC:20270203T173000
DTEND;TZID=UTC:20270203T183000
DTSTAMP:20260421T163439
CREATED:20260217T102954Z
LAST-MODIFIED:20260217T110049Z
UID:10000051-1801675800-1801679400@die-krawatte-wuppertal.de
SUMMARY:Krawatten Chor
DESCRIPTION:Im Krawattenchor kommen Menschen aus unterschiedlichen Kulturen zusammen\, um gemeinsam Lieder in vielen Sprachen zu singen. Musik verbindet\, überwindet Grenzen und schafft Gemeinschaft – genau das erleben wir jede Woche. Bei uns geht es nicht um Perfektion\, sondern um Freude\, Begegnung und das gute Gefühl\, zusammen zu klingen. \nWir treffen uns mittwochs von 17:00 bis 18:30 Uhr im Paul-Gerhardt-Haus der Ev. Kirchengemeinde Heckinghausen. \nAlle sind willkommen – ganz gleich\, welche Sprache sie sprechen oder wie viel Gesangserfahrung sie mitbringen.
URL:https://die-krawatte-wuppertal.de/event/krawatten-chor/2027-02-03/
ATTACH;FMTTYPE=image/webp:https://die-krawatte-wuppertal.de/wp-content/uploads/2026/02/Krawatten_Chor.webp
END:VEVENT
BEGIN:VEVENT
DTSTART;TZID=UTC:20270204T174500
DTEND;TZID=UTC:20270204T184500
DTSTAMP:20260421T163439
CREATED:20260217T110603Z
LAST-MODIFIED:20260217T110604Z
UID:10001155-1801763100-1801766700@die-krawatte-wuppertal.de
SUMMARY:Zumba
DESCRIPTION:Zumba in der Krawatte.\nJeden Donnerstag\nvon 17.45 bis 18.45 Uhr.
URL:https://die-krawatte-wuppertal.de/event/zumba/2027-02-04/
ATTACH;FMTTYPE=image/jpeg:https://die-krawatte-wuppertal.de/wp-content/uploads/2026/02/zumba.jpg
END:VEVENT
BEGIN:VEVENT
DTSTART;TZID=UTC:20270207T130000
DTEND;TZID=UTC:20270207T170000
DTSTAMP:20260421T163439
CREATED:20260217T105938Z
LAST-MODIFIED:20260217T105939Z
UID:10001056-1802005200-1802019600@die-krawatte-wuppertal.de
SUMMARY:TechCafé
DESCRIPTION:TechCafé: Dein Einstieg in die IT-Welt – kostenlos und für jeden! \nDas TechCafé bietet kostenlose IT-Kurse und Unterstützung für alle an\, die sich in der digitalen Welt besser zurechtfinden möchten. Unser Angebot umfasst die individuelle Beratung und Fehlersuche für Geräte wie Computer\, Laptops und Tablets sowie umfassende Beratung zur sicheren Softwarenutzung und IT-Sicherheit. Wir unterstützen dich bei der Webseitengestaltung\, beraten bei digitalen Projekten und bieten Schulungen in einfacher Programmierung sowie Einführungen in gängige Anwendungen an. \nDarüber hinaus vermitteln wir praktische Kenntnisse in der Datenverarbeitung mit Fokus auf Cloud-Anwendungen\, CSV-Bearbeitung und Datenkonvertierung. Wir helfen dir dabei\, Programme zu erlernen\, die für den täglichen Gebrauch wichtig sind. Auch bei der Technik selbst lassen wir dich nicht im Stich: Wir führen kleinere Hardware-Reparaturen durch\, tauschen Bauteile aus (sofern verfügbar) und kümmern uns um die Fehlerbehebung sowie die regelmäßige Wartung deiner Geräte\, um deren Lebensdauer zu verlängern. \nWann? Jeden ersten Sonntag im Monat von 13:00 bis 17:00 Uhr.
URL:https://die-krawatte-wuppertal.de/event/techcafe/2027-02-07/
ATTACH;FMTTYPE=image/jpeg:https://die-krawatte-wuppertal.de/wp-content/uploads/2026/02/techcafe.jpg
END:VEVENT
BEGIN:VEVENT
DTSTART;TZID=UTC:20270208T170000
DTEND;TZID=UTC:20270208T200000
DTSTAMP:20260421T163439
CREATED:20260217T104630Z
LAST-MODIFIED:20260217T110231Z
UID:10000314-1802106000-1802116800@die-krawatte-wuppertal.de
SUMMARY:Zirkus Wunderkind
DESCRIPTION:Bei uns könnt ihr lernen:\n• Akrobatik\n• Turnen\n• Jonglieren\n• Einradfahren\n• Luftakrobatik\n• Pantomime \nMontag\, Dienstag und Mittwoch\nvon 17.00 bis 20.00 Uhr. \nOrt: Die Krawatte | Bockmühle 17a | 42289 Wuppertal
URL:https://die-krawatte-wuppertal.de/event/zirkus-wunderkind/2027-02-08/
ATTACH;FMTTYPE=image/webp:https://die-krawatte-wuppertal.de/wp-content/uploads/2026/02/Zirkus_6.webp
END:VEVENT
BEGIN:VEVENT
DTSTART;TZID=UTC:20270209T160000
DTEND;TZID=UTC:20270209T173000
DTSTAMP:20260421T163439
CREATED:20260217T134019Z
LAST-MODIFIED:20260217T141630Z
UID:10001477-1802188800-1802194200@die-krawatte-wuppertal.de
SUMMARY:Frühförderung
DESCRIPTION:Unsere Frühförderangebote begleiten Kinder und Familien von Anfang an: Bereits in der Krabbelgruppe schaffen wir Räume für frühe Begegnung\, spielerisches Lernen und vertrauensvolle Begleitung. \nAb 2026 bieten wir zusätzlich eine Kindergruppe für arabisch sprechende Frauen an\, die den Austausch stärkt und den Einstieg in Bildung und Alltag unterstützt.
URL:https://die-krawatte-wuppertal.de/event/lernfoerderung/2027-02-09/
ATTACH;FMTTYPE=image/webp:https://die-krawatte-wuppertal.de/wp-content/uploads/2026/02/Lern_3.webp
END:VEVENT
BEGIN:VEVENT
DTSTART;TZID=UTC:20270209T170000
DTEND;TZID=UTC:20270209T200000
DTSTAMP:20260421T163439
CREATED:20260217T104630Z
LAST-MODIFIED:20260217T110231Z
UID:10000625-1802192400-1802203200@die-krawatte-wuppertal.de
SUMMARY:Zirkus Wunderkind
DESCRIPTION:Bei uns könnt ihr lernen:\n• Akrobatik\n• Turnen\n• Jonglieren\n• Einradfahren\n• Luftakrobatik\n• Pantomime \nMontag\, Dienstag und Mittwoch\nvon 17.00 bis 20.00 Uhr. \nOrt: Die Krawatte | Bockmühle 17a | 42289 Wuppertal
URL:https://die-krawatte-wuppertal.de/event/zirkus-wunderkind/2027-02-09/
ATTACH;FMTTYPE=image/webp:https://die-krawatte-wuppertal.de/wp-content/uploads/2026/02/Zirkus_6.webp
END:VEVENT
BEGIN:VEVENT
DTSTART;TZID=UTC:20270210T170000
DTEND;TZID=UTC:20270210T200000
DTSTAMP:20260421T163439
CREATED:20260217T104630Z
LAST-MODIFIED:20260217T110231Z
UID:10000626-1802278800-1802289600@die-krawatte-wuppertal.de
SUMMARY:Zirkus Wunderkind
DESCRIPTION:Bei uns könnt ihr lernen:\n• Akrobatik\n• Turnen\n• Jonglieren\n• Einradfahren\n• Luftakrobatik\n• Pantomime \nMontag\, Dienstag und Mittwoch\nvon 17.00 bis 20.00 Uhr. \nOrt: Die Krawatte | Bockmühle 17a | 42289 Wuppertal
URL:https://die-krawatte-wuppertal.de/event/zirkus-wunderkind/2027-02-10/
ATTACH;FMTTYPE=image/webp:https://die-krawatte-wuppertal.de/wp-content/uploads/2026/02/Zirkus_6.webp
END:VEVENT
BEGIN:VEVENT
DTSTART;TZID=UTC:20270210T173000
DTEND;TZID=UTC:20270210T183000
DTSTAMP:20260421T163439
CREATED:20260217T102954Z
LAST-MODIFIED:20260217T110049Z
UID:10000052-1802280600-1802284200@die-krawatte-wuppertal.de
SUMMARY:Krawatten Chor
DESCRIPTION:Im Krawattenchor kommen Menschen aus unterschiedlichen Kulturen zusammen\, um gemeinsam Lieder in vielen Sprachen zu singen. Musik verbindet\, überwindet Grenzen und schafft Gemeinschaft – genau das erleben wir jede Woche. Bei uns geht es nicht um Perfektion\, sondern um Freude\, Begegnung und das gute Gefühl\, zusammen zu klingen. \nWir treffen uns mittwochs von 17:00 bis 18:30 Uhr im Paul-Gerhardt-Haus der Ev. Kirchengemeinde Heckinghausen. \nAlle sind willkommen – ganz gleich\, welche Sprache sie sprechen oder wie viel Gesangserfahrung sie mitbringen.
URL:https://die-krawatte-wuppertal.de/event/krawatten-chor/2027-02-10/
ATTACH;FMTTYPE=image/webp:https://die-krawatte-wuppertal.de/wp-content/uploads/2026/02/Krawatten_Chor.webp
END:VEVENT
BEGIN:VEVENT
DTSTART;TZID=UTC:20270211T174500
DTEND;TZID=UTC:20270211T184500
DTSTAMP:20260421T163439
CREATED:20260217T110603Z
LAST-MODIFIED:20260217T110604Z
UID:10001156-1802367900-1802371500@die-krawatte-wuppertal.de
SUMMARY:Zumba
DESCRIPTION:Zumba in der Krawatte.\nJeden Donnerstag\nvon 17.45 bis 18.45 Uhr.
URL:https://die-krawatte-wuppertal.de/event/zumba/2027-02-11/
ATTACH;FMTTYPE=image/jpeg:https://die-krawatte-wuppertal.de/wp-content/uploads/2026/02/zumba.jpg
END:VEVENT
BEGIN:VEVENT
DTSTART;TZID=UTC:20270215T170000
DTEND;TZID=UTC:20270215T200000
DTSTAMP:20260421T163439
CREATED:20260217T104630Z
LAST-MODIFIED:20260217T110231Z
UID:10000315-1802710800-1802721600@die-krawatte-wuppertal.de
SUMMARY:Zirkus Wunderkind
DESCRIPTION:Bei uns könnt ihr lernen:\n• Akrobatik\n• Turnen\n• Jonglieren\n• Einradfahren\n• Luftakrobatik\n• Pantomime \nMontag\, Dienstag und Mittwoch\nvon 17.00 bis 20.00 Uhr. \nOrt: Die Krawatte | Bockmühle 17a | 42289 Wuppertal
URL:https://die-krawatte-wuppertal.de/event/zirkus-wunderkind/2027-02-15/
ATTACH;FMTTYPE=image/webp:https://die-krawatte-wuppertal.de/wp-content/uploads/2026/02/Zirkus_6.webp
END:VEVENT
BEGIN:VEVENT
DTSTART;TZID=UTC:20270216T160000
DTEND;TZID=UTC:20270216T173000
DTSTAMP:20260421T163439
CREATED:20260217T134019Z
LAST-MODIFIED:20260217T141630Z
UID:10001478-1802793600-1802799000@die-krawatte-wuppertal.de
SUMMARY:Frühförderung
DESCRIPTION:Unsere Frühförderangebote begleiten Kinder und Familien von Anfang an: Bereits in der Krabbelgruppe schaffen wir Räume für frühe Begegnung\, spielerisches Lernen und vertrauensvolle Begleitung. \nAb 2026 bieten wir zusätzlich eine Kindergruppe für arabisch sprechende Frauen an\, die den Austausch stärkt und den Einstieg in Bildung und Alltag unterstützt.
URL:https://die-krawatte-wuppertal.de/event/lernfoerderung/2027-02-16/
ATTACH;FMTTYPE=image/webp:https://die-krawatte-wuppertal.de/wp-content/uploads/2026/02/Lern_3.webp
END:VEVENT
BEGIN:VEVENT
DTSTART;TZID=UTC:20270216T170000
DTEND;TZID=UTC:20270216T200000
DTSTAMP:20260421T163439
CREATED:20260217T104630Z
LAST-MODIFIED:20260217T110231Z
UID:10000627-1802797200-1802808000@die-krawatte-wuppertal.de
SUMMARY:Zirkus Wunderkind
DESCRIPTION:Bei uns könnt ihr lernen:\n• Akrobatik\n• Turnen\n• Jonglieren\n• Einradfahren\n• Luftakrobatik\n• Pantomime \nMontag\, Dienstag und Mittwoch\nvon 17.00 bis 20.00 Uhr. \nOrt: Die Krawatte | Bockmühle 17a | 42289 Wuppertal
URL:https://die-krawatte-wuppertal.de/event/zirkus-wunderkind/2027-02-16/
ATTACH;FMTTYPE=image/webp:https://die-krawatte-wuppertal.de/wp-content/uploads/2026/02/Zirkus_6.webp
END:VEVENT
BEGIN:VEVENT
DTSTART;TZID=UTC:20270217T170000
DTEND;TZID=UTC:20270217T200000
DTSTAMP:20260421T163439
CREATED:20260217T104630Z
LAST-MODIFIED:20260217T110231Z
UID:10000628-1802883600-1802894400@die-krawatte-wuppertal.de
SUMMARY:Zirkus Wunderkind
DESCRIPTION:Bei uns könnt ihr lernen:\n• Akrobatik\n• Turnen\n• Jonglieren\n• Einradfahren\n• Luftakrobatik\n• Pantomime \nMontag\, Dienstag und Mittwoch\nvon 17.00 bis 20.00 Uhr. \nOrt: Die Krawatte | Bockmühle 17a | 42289 Wuppertal
URL:https://die-krawatte-wuppertal.de/event/zirkus-wunderkind/2027-02-17/
ATTACH;FMTTYPE=image/webp:https://die-krawatte-wuppertal.de/wp-content/uploads/2026/02/Zirkus_6.webp
END:VEVENT
BEGIN:VEVENT
DTSTART;TZID=UTC:20270217T173000
DTEND;TZID=UTC:20270217T183000
DTSTAMP:20260421T163439
CREATED:20260217T102954Z
LAST-MODIFIED:20260217T110049Z
UID:10000053-1802885400-1802889000@die-krawatte-wuppertal.de
SUMMARY:Krawatten Chor
DESCRIPTION:Im Krawattenchor kommen Menschen aus unterschiedlichen Kulturen zusammen\, um gemeinsam Lieder in vielen Sprachen zu singen. Musik verbindet\, überwindet Grenzen und schafft Gemeinschaft – genau das erleben wir jede Woche. Bei uns geht es nicht um Perfektion\, sondern um Freude\, Begegnung und das gute Gefühl\, zusammen zu klingen. \nWir treffen uns mittwochs von 17:00 bis 18:30 Uhr im Paul-Gerhardt-Haus der Ev. Kirchengemeinde Heckinghausen. \nAlle sind willkommen – ganz gleich\, welche Sprache sie sprechen oder wie viel Gesangserfahrung sie mitbringen.
URL:https://die-krawatte-wuppertal.de/event/krawatten-chor/2027-02-17/
ATTACH;FMTTYPE=image/webp:https://die-krawatte-wuppertal.de/wp-content/uploads/2026/02/Krawatten_Chor.webp
END:VEVENT
BEGIN:VEVENT
DTSTART;TZID=UTC:20270218T174500
DTEND;TZID=UTC:20270218T184500
DTSTAMP:20260421T163439
CREATED:20260217T110603Z
LAST-MODIFIED:20260217T110604Z
UID:10001157-1802972700-1802976300@die-krawatte-wuppertal.de
SUMMARY:Zumba
DESCRIPTION:Zumba in der Krawatte.\nJeden Donnerstag\nvon 17.45 bis 18.45 Uhr.
URL:https://die-krawatte-wuppertal.de/event/zumba/2027-02-18/
ATTACH;FMTTYPE=image/jpeg:https://die-krawatte-wuppertal.de/wp-content/uploads/2026/02/zumba.jpg
END:VEVENT
BEGIN:VEVENT
DTSTART;TZID=UTC:20270222T170000
DTEND;TZID=UTC:20270222T200000
DTSTAMP:20260421T163439
CREATED:20260217T104630Z
LAST-MODIFIED:20260217T110231Z
UID:10000316-1803315600-1803326400@die-krawatte-wuppertal.de
SUMMARY:Zirkus Wunderkind
DESCRIPTION:Bei uns könnt ihr lernen:\n• Akrobatik\n• Turnen\n• Jonglieren\n• Einradfahren\n• Luftakrobatik\n• Pantomime \nMontag\, Dienstag und Mittwoch\nvon 17.00 bis 20.00 Uhr. \nOrt: Die Krawatte | Bockmühle 17a | 42289 Wuppertal
URL:https://die-krawatte-wuppertal.de/event/zirkus-wunderkind/2027-02-22/
ATTACH;FMTTYPE=image/webp:https://die-krawatte-wuppertal.de/wp-content/uploads/2026/02/Zirkus_6.webp
END:VEVENT
BEGIN:VEVENT
DTSTART;TZID=UTC:20270223T160000
DTEND;TZID=UTC:20270223T173000
DTSTAMP:20260421T163439
CREATED:20260217T134019Z
LAST-MODIFIED:20260217T141630Z
UID:10001479-1803398400-1803403800@die-krawatte-wuppertal.de
SUMMARY:Frühförderung
DESCRIPTION:Unsere Frühförderangebote begleiten Kinder und Familien von Anfang an: Bereits in der Krabbelgruppe schaffen wir Räume für frühe Begegnung\, spielerisches Lernen und vertrauensvolle Begleitung. \nAb 2026 bieten wir zusätzlich eine Kindergruppe für arabisch sprechende Frauen an\, die den Austausch stärkt und den Einstieg in Bildung und Alltag unterstützt.
URL:https://die-krawatte-wuppertal.de/event/lernfoerderung/2027-02-23/
ATTACH;FMTTYPE=image/webp:https://die-krawatte-wuppertal.de/wp-content/uploads/2026/02/Lern_3.webp
END:VEVENT
BEGIN:VEVENT
DTSTART;TZID=UTC:20270223T170000
DTEND;TZID=UTC:20270223T200000
DTSTAMP:20260421T163439
CREATED:20260217T104630Z
LAST-MODIFIED:20260217T110231Z
UID:10000629-1803402000-1803412800@die-krawatte-wuppertal.de
SUMMARY:Zirkus Wunderkind
DESCRIPTION:Bei uns könnt ihr lernen:\n• Akrobatik\n• Turnen\n• Jonglieren\n• Einradfahren\n• Luftakrobatik\n• Pantomime \nMontag\, Dienstag und Mittwoch\nvon 17.00 bis 20.00 Uhr. \nOrt: Die Krawatte | Bockmühle 17a | 42289 Wuppertal
URL:https://die-krawatte-wuppertal.de/event/zirkus-wunderkind/2027-02-23/
ATTACH;FMTTYPE=image/webp:https://die-krawatte-wuppertal.de/wp-content/uploads/2026/02/Zirkus_6.webp
END:VEVENT
BEGIN:VEVENT
DTSTART;TZID=UTC:20270224T170000
DTEND;TZID=UTC:20270224T200000
DTSTAMP:20260421T163439
CREATED:20260217T104630Z
LAST-MODIFIED:20260217T110231Z
UID:10000630-1803488400-1803499200@die-krawatte-wuppertal.de
SUMMARY:Zirkus Wunderkind
DESCRIPTION:Bei uns könnt ihr lernen:\n• Akrobatik\n• Turnen\n• Jonglieren\n• Einradfahren\n• Luftakrobatik\n• Pantomime \nMontag\, Dienstag und Mittwoch\nvon 17.00 bis 20.00 Uhr. \nOrt: Die Krawatte | Bockmühle 17a | 42289 Wuppertal
URL:https://die-krawatte-wuppertal.de/event/zirkus-wunderkind/2027-02-24/
ATTACH;FMTTYPE=image/webp:https://die-krawatte-wuppertal.de/wp-content/uploads/2026/02/Zirkus_6.webp
END:VEVENT
BEGIN:VEVENT
DTSTART;TZID=UTC:20270224T173000
DTEND;TZID=UTC:20270224T183000
DTSTAMP:20260421T163439
CREATED:20260217T102954Z
LAST-MODIFIED:20260217T110049Z
UID:10000054-1803490200-1803493800@die-krawatte-wuppertal.de
SUMMARY:Krawatten Chor
DESCRIPTION:Im Krawattenchor kommen Menschen aus unterschiedlichen Kulturen zusammen\, um gemeinsam Lieder in vielen Sprachen zu singen. Musik verbindet\, überwindet Grenzen und schafft Gemeinschaft – genau das erleben wir jede Woche. Bei uns geht es nicht um Perfektion\, sondern um Freude\, Begegnung und das gute Gefühl\, zusammen zu klingen. \nWir treffen uns mittwochs von 17:00 bis 18:30 Uhr im Paul-Gerhardt-Haus der Ev. Kirchengemeinde Heckinghausen. \nAlle sind willkommen – ganz gleich\, welche Sprache sie sprechen oder wie viel Gesangserfahrung sie mitbringen.
URL:https://die-krawatte-wuppertal.de/event/krawatten-chor/2027-02-24/
ATTACH;FMTTYPE=image/webp:https://die-krawatte-wuppertal.de/wp-content/uploads/2026/02/Krawatten_Chor.webp
END:VEVENT
BEGIN:VEVENT
DTSTART;TZID=UTC:20270225T174500
DTEND;TZID=UTC:20270225T184500
DTSTAMP:20260421T163439
CREATED:20260217T110603Z
LAST-MODIFIED:20260217T110604Z
UID:10001158-1803577500-1803581100@die-krawatte-wuppertal.de
SUMMARY:Zumba
DESCRIPTION:Zumba in der Krawatte.\nJeden Donnerstag\nvon 17.45 bis 18.45 Uhr.
URL:https://die-krawatte-wuppertal.de/event/zumba/2027-02-25/
ATTACH;FMTTYPE=image/jpeg:https://die-krawatte-wuppertal.de/wp-content/uploads/2026/02/zumba.jpg
END:VEVENT
BEGIN:VEVENT
DTSTART;TZID=UTC:20270226T150000
DTEND;TZID=UTC:20270226T170000
DTSTAMP:20260421T163439
CREATED:20260217T133526Z
LAST-MODIFIED:20260217T133604Z
UID:10001378-1803654000-1803661200@die-krawatte-wuppertal.de
SUMMARY:Krawattencafé
DESCRIPTION:Die Krawatte\, eine ehemalige Krawattenfabrik im Wuppertaler Osten\, ist heute ein lebendiger Ort der interkulturellen und interreligiösen Begegnung. Hier kommen Menschen unterschiedlicher Herkunft\, Generationen und Lebensgeschichten zusammen: Besucher*innen mit und ohne Fluchterfahrung\, Jung und Alt\, in Wuppertal Aufgewachsene ebenso wie neu Zugewanderte. Sie begegnen sich\, tauschen sich aus\, feiern gemeinsam und entwickeln Ideen für ihr Quartier. \nIm gemeinsamen Miteinander werden Unterschiede überbrückt und das Gefühl von Zusammenhalt gestärkt. Dabei entstehen Verbindungen und Freundschaften\, die im Alltag sonst kaum möglich wären. Die Angebote der Krawatte spiegeln diese Vielfalt wider: In einem Marionettenprojekt gestalten rund 30 Frauen ihre eigenen Figuren und erzählen damit persönliche Lebensgeschichten. Im Krawatten-Café wird gespielt\, Deutsch gelernt\, beraten und kreativ gearbeitet. \nTermin: Immer letzter Freitag im Monat\, von 15-17 Uhr.
URL:https://die-krawatte-wuppertal.de/event/krawattencafe/2027-02-26/
ATTACH;FMTTYPE=image/webp:https://die-krawatte-wuppertal.de/wp-content/uploads/2026/02/cafe_3.webp
END:VEVENT
END:VCALENDAR