BEGIN:VCALENDAR
VERSION:2.0
PRODID:-//Die Krawatte Wuppertal - ECPv6.15.16//NONSGML v1.0//EN
CALSCALE:GREGORIAN
METHOD:PUBLISH
X-ORIGINAL-URL:https://die-krawatte-wuppertal.de
X-WR-CALDESC:Veranstaltungen für Die Krawatte Wuppertal
REFRESH-INTERVAL;VALUE=DURATION:PT1H
X-Robots-Tag:noindex
X-PUBLISHED-TTL:PT1H
BEGIN:VTIMEZONE
TZID:UTC
BEGIN:STANDARD
TZOFFSETFROM:+0000
TZOFFSETTO:+0000
TZNAME:UTC
DTSTART:20260101T000000
END:STANDARD
END:VTIMEZONE
BEGIN:VEVENT
DTSTART;TZID=UTC:20270401T174500
DTEND;TZID=UTC:20270401T184500
DTSTAMP:20260421T201911
CREATED:20260217T110603Z
LAST-MODIFIED:20260217T110604Z
UID:10001163-1806601500-1806605100@die-krawatte-wuppertal.de
SUMMARY:Zumba
DESCRIPTION:Zumba in der Krawatte.\nJeden Donnerstag\nvon 17.45 bis 18.45 Uhr.
URL:https://die-krawatte-wuppertal.de/event/zumba/2027-04-01/
ATTACH;FMTTYPE=image/jpeg:https://die-krawatte-wuppertal.de/wp-content/uploads/2026/02/zumba.jpg
END:VEVENT
BEGIN:VEVENT
DTSTART;TZID=UTC:20270404T130000
DTEND;TZID=UTC:20270404T170000
DTSTAMP:20260421T201911
CREATED:20260217T105938Z
LAST-MODIFIED:20260217T105939Z
UID:10001058-1806843600-1806858000@die-krawatte-wuppertal.de
SUMMARY:TechCafé
DESCRIPTION:TechCafé: Dein Einstieg in die IT-Welt – kostenlos und für jeden! \nDas TechCafé bietet kostenlose IT-Kurse und Unterstützung für alle an\, die sich in der digitalen Welt besser zurechtfinden möchten. Unser Angebot umfasst die individuelle Beratung und Fehlersuche für Geräte wie Computer\, Laptops und Tablets sowie umfassende Beratung zur sicheren Softwarenutzung und IT-Sicherheit. Wir unterstützen dich bei der Webseitengestaltung\, beraten bei digitalen Projekten und bieten Schulungen in einfacher Programmierung sowie Einführungen in gängige Anwendungen an. \nDarüber hinaus vermitteln wir praktische Kenntnisse in der Datenverarbeitung mit Fokus auf Cloud-Anwendungen\, CSV-Bearbeitung und Datenkonvertierung. Wir helfen dir dabei\, Programme zu erlernen\, die für den täglichen Gebrauch wichtig sind. Auch bei der Technik selbst lassen wir dich nicht im Stich: Wir führen kleinere Hardware-Reparaturen durch\, tauschen Bauteile aus (sofern verfügbar) und kümmern uns um die Fehlerbehebung sowie die regelmäßige Wartung deiner Geräte\, um deren Lebensdauer zu verlängern. \nWann? Jeden ersten Sonntag im Monat von 13:00 bis 17:00 Uhr.
URL:https://die-krawatte-wuppertal.de/event/techcafe/2027-04-04/
ATTACH;FMTTYPE=image/jpeg:https://die-krawatte-wuppertal.de/wp-content/uploads/2026/02/techcafe.jpg
END:VEVENT
BEGIN:VEVENT
DTSTART;TZID=UTC:20270405T170000
DTEND;TZID=UTC:20270405T200000
DTSTAMP:20260421T201911
CREATED:20260217T104630Z
LAST-MODIFIED:20260217T110231Z
UID:10000322-1806944400-1806955200@die-krawatte-wuppertal.de
SUMMARY:Zirkus Wunderkind
DESCRIPTION:Bei uns könnt ihr lernen:\n• Akrobatik\n• Turnen\n• Jonglieren\n• Einradfahren\n• Luftakrobatik\n• Pantomime \nMontag\, Dienstag und Mittwoch\nvon 17.00 bis 20.00 Uhr. \nOrt: Die Krawatte | Bockmühle 17a | 42289 Wuppertal
URL:https://die-krawatte-wuppertal.de/event/zirkus-wunderkind/2027-04-05/
ATTACH;FMTTYPE=image/webp:https://die-krawatte-wuppertal.de/wp-content/uploads/2026/02/Zirkus_6.webp
END:VEVENT
BEGIN:VEVENT
DTSTART;TZID=UTC:20270406T160000
DTEND;TZID=UTC:20270406T173000
DTSTAMP:20260421T201911
CREATED:20260217T134019Z
LAST-MODIFIED:20260217T141630Z
UID:10001485-1807027200-1807032600@die-krawatte-wuppertal.de
SUMMARY:Frühförderung
DESCRIPTION:Unsere Frühförderangebote begleiten Kinder und Familien von Anfang an: Bereits in der Krabbelgruppe schaffen wir Räume für frühe Begegnung\, spielerisches Lernen und vertrauensvolle Begleitung. \nAb 2026 bieten wir zusätzlich eine Kindergruppe für arabisch sprechende Frauen an\, die den Austausch stärkt und den Einstieg in Bildung und Alltag unterstützt.
URL:https://die-krawatte-wuppertal.de/event/lernfoerderung/2027-04-06/
ATTACH;FMTTYPE=image/webp:https://die-krawatte-wuppertal.de/wp-content/uploads/2026/02/Lern_3.webp
END:VEVENT
BEGIN:VEVENT
DTSTART;TZID=UTC:20270406T170000
DTEND;TZID=UTC:20270406T200000
DTSTAMP:20260421T201911
CREATED:20260217T104630Z
LAST-MODIFIED:20260217T110231Z
UID:10000641-1807030800-1807041600@die-krawatte-wuppertal.de
SUMMARY:Zirkus Wunderkind
DESCRIPTION:Bei uns könnt ihr lernen:\n• Akrobatik\n• Turnen\n• Jonglieren\n• Einradfahren\n• Luftakrobatik\n• Pantomime \nMontag\, Dienstag und Mittwoch\nvon 17.00 bis 20.00 Uhr. \nOrt: Die Krawatte | Bockmühle 17a | 42289 Wuppertal
URL:https://die-krawatte-wuppertal.de/event/zirkus-wunderkind/2027-04-06/
ATTACH;FMTTYPE=image/webp:https://die-krawatte-wuppertal.de/wp-content/uploads/2026/02/Zirkus_6.webp
END:VEVENT
BEGIN:VEVENT
DTSTART;TZID=UTC:20270407T170000
DTEND;TZID=UTC:20270407T200000
DTSTAMP:20260421T201911
CREATED:20260217T104630Z
LAST-MODIFIED:20260217T110231Z
UID:10000642-1807117200-1807128000@die-krawatte-wuppertal.de
SUMMARY:Zirkus Wunderkind
DESCRIPTION:Bei uns könnt ihr lernen:\n• Akrobatik\n• Turnen\n• Jonglieren\n• Einradfahren\n• Luftakrobatik\n• Pantomime \nMontag\, Dienstag und Mittwoch\nvon 17.00 bis 20.00 Uhr. \nOrt: Die Krawatte | Bockmühle 17a | 42289 Wuppertal
URL:https://die-krawatte-wuppertal.de/event/zirkus-wunderkind/2027-04-07/
ATTACH;FMTTYPE=image/webp:https://die-krawatte-wuppertal.de/wp-content/uploads/2026/02/Zirkus_6.webp
END:VEVENT
BEGIN:VEVENT
DTSTART;TZID=UTC:20270407T173000
DTEND;TZID=UTC:20270407T183000
DTSTAMP:20260421T201911
CREATED:20260217T102954Z
LAST-MODIFIED:20260217T110049Z
UID:10000060-1807119000-1807122600@die-krawatte-wuppertal.de
SUMMARY:Krawatten Chor
DESCRIPTION:Im Krawattenchor kommen Menschen aus unterschiedlichen Kulturen zusammen\, um gemeinsam Lieder in vielen Sprachen zu singen. Musik verbindet\, überwindet Grenzen und schafft Gemeinschaft – genau das erleben wir jede Woche. Bei uns geht es nicht um Perfektion\, sondern um Freude\, Begegnung und das gute Gefühl\, zusammen zu klingen. \nWir treffen uns mittwochs von 17:00 bis 18:30 Uhr im Paul-Gerhardt-Haus der Ev. Kirchengemeinde Heckinghausen. \nAlle sind willkommen – ganz gleich\, welche Sprache sie sprechen oder wie viel Gesangserfahrung sie mitbringen.
URL:https://die-krawatte-wuppertal.de/event/krawatten-chor/2027-04-07/
ATTACH;FMTTYPE=image/webp:https://die-krawatte-wuppertal.de/wp-content/uploads/2026/02/Krawatten_Chor.webp
END:VEVENT
BEGIN:VEVENT
DTSTART;TZID=UTC:20270408T174500
DTEND;TZID=UTC:20270408T184500
DTSTAMP:20260421T201911
CREATED:20260217T110603Z
LAST-MODIFIED:20260217T110604Z
UID:10001164-1807206300-1807209900@die-krawatte-wuppertal.de
SUMMARY:Zumba
DESCRIPTION:Zumba in der Krawatte.\nJeden Donnerstag\nvon 17.45 bis 18.45 Uhr.
URL:https://die-krawatte-wuppertal.de/event/zumba/2027-04-08/
ATTACH;FMTTYPE=image/jpeg:https://die-krawatte-wuppertal.de/wp-content/uploads/2026/02/zumba.jpg
END:VEVENT
BEGIN:VEVENT
DTSTART;TZID=UTC:20270412T170000
DTEND;TZID=UTC:20270412T200000
DTSTAMP:20260421T201911
CREATED:20260217T104630Z
LAST-MODIFIED:20260217T110231Z
UID:10000323-1807549200-1807560000@die-krawatte-wuppertal.de
SUMMARY:Zirkus Wunderkind
DESCRIPTION:Bei uns könnt ihr lernen:\n• Akrobatik\n• Turnen\n• Jonglieren\n• Einradfahren\n• Luftakrobatik\n• Pantomime \nMontag\, Dienstag und Mittwoch\nvon 17.00 bis 20.00 Uhr. \nOrt: Die Krawatte | Bockmühle 17a | 42289 Wuppertal
URL:https://die-krawatte-wuppertal.de/event/zirkus-wunderkind/2027-04-12/
ATTACH;FMTTYPE=image/webp:https://die-krawatte-wuppertal.de/wp-content/uploads/2026/02/Zirkus_6.webp
END:VEVENT
BEGIN:VEVENT
DTSTART;TZID=UTC:20270413T160000
DTEND;TZID=UTC:20270413T173000
DTSTAMP:20260421T201911
CREATED:20260217T134019Z
LAST-MODIFIED:20260217T141630Z
UID:10001486-1807632000-1807637400@die-krawatte-wuppertal.de
SUMMARY:Frühförderung
DESCRIPTION:Unsere Frühförderangebote begleiten Kinder und Familien von Anfang an: Bereits in der Krabbelgruppe schaffen wir Räume für frühe Begegnung\, spielerisches Lernen und vertrauensvolle Begleitung. \nAb 2026 bieten wir zusätzlich eine Kindergruppe für arabisch sprechende Frauen an\, die den Austausch stärkt und den Einstieg in Bildung und Alltag unterstützt.
URL:https://die-krawatte-wuppertal.de/event/lernfoerderung/2027-04-13/
ATTACH;FMTTYPE=image/webp:https://die-krawatte-wuppertal.de/wp-content/uploads/2026/02/Lern_3.webp
END:VEVENT
BEGIN:VEVENT
DTSTART;TZID=UTC:20270413T170000
DTEND;TZID=UTC:20270413T200000
DTSTAMP:20260421T201911
CREATED:20260217T104630Z
LAST-MODIFIED:20260217T110231Z
UID:10000643-1807635600-1807646400@die-krawatte-wuppertal.de
SUMMARY:Zirkus Wunderkind
DESCRIPTION:Bei uns könnt ihr lernen:\n• Akrobatik\n• Turnen\n• Jonglieren\n• Einradfahren\n• Luftakrobatik\n• Pantomime \nMontag\, Dienstag und Mittwoch\nvon 17.00 bis 20.00 Uhr. \nOrt: Die Krawatte | Bockmühle 17a | 42289 Wuppertal
URL:https://die-krawatte-wuppertal.de/event/zirkus-wunderkind/2027-04-13/
ATTACH;FMTTYPE=image/webp:https://die-krawatte-wuppertal.de/wp-content/uploads/2026/02/Zirkus_6.webp
END:VEVENT
BEGIN:VEVENT
DTSTART;TZID=UTC:20270414T170000
DTEND;TZID=UTC:20270414T200000
DTSTAMP:20260421T201911
CREATED:20260217T104630Z
LAST-MODIFIED:20260217T110231Z
UID:10000644-1807722000-1807732800@die-krawatte-wuppertal.de
SUMMARY:Zirkus Wunderkind
DESCRIPTION:Bei uns könnt ihr lernen:\n• Akrobatik\n• Turnen\n• Jonglieren\n• Einradfahren\n• Luftakrobatik\n• Pantomime \nMontag\, Dienstag und Mittwoch\nvon 17.00 bis 20.00 Uhr. \nOrt: Die Krawatte | Bockmühle 17a | 42289 Wuppertal
URL:https://die-krawatte-wuppertal.de/event/zirkus-wunderkind/2027-04-14/
ATTACH;FMTTYPE=image/webp:https://die-krawatte-wuppertal.de/wp-content/uploads/2026/02/Zirkus_6.webp
END:VEVENT
BEGIN:VEVENT
DTSTART;TZID=UTC:20270414T173000
DTEND;TZID=UTC:20270414T183000
DTSTAMP:20260421T201911
CREATED:20260217T102954Z
LAST-MODIFIED:20260217T110049Z
UID:10000061-1807723800-1807727400@die-krawatte-wuppertal.de
SUMMARY:Krawatten Chor
DESCRIPTION:Im Krawattenchor kommen Menschen aus unterschiedlichen Kulturen zusammen\, um gemeinsam Lieder in vielen Sprachen zu singen. Musik verbindet\, überwindet Grenzen und schafft Gemeinschaft – genau das erleben wir jede Woche. Bei uns geht es nicht um Perfektion\, sondern um Freude\, Begegnung und das gute Gefühl\, zusammen zu klingen. \nWir treffen uns mittwochs von 17:00 bis 18:30 Uhr im Paul-Gerhardt-Haus der Ev. Kirchengemeinde Heckinghausen. \nAlle sind willkommen – ganz gleich\, welche Sprache sie sprechen oder wie viel Gesangserfahrung sie mitbringen.
URL:https://die-krawatte-wuppertal.de/event/krawatten-chor/2027-04-14/
ATTACH;FMTTYPE=image/webp:https://die-krawatte-wuppertal.de/wp-content/uploads/2026/02/Krawatten_Chor.webp
END:VEVENT
BEGIN:VEVENT
DTSTART;TZID=UTC:20270415T174500
DTEND;TZID=UTC:20270415T184500
DTSTAMP:20260421T201911
CREATED:20260217T110603Z
LAST-MODIFIED:20260217T110604Z
UID:10001165-1807811100-1807814700@die-krawatte-wuppertal.de
SUMMARY:Zumba
DESCRIPTION:Zumba in der Krawatte.\nJeden Donnerstag\nvon 17.45 bis 18.45 Uhr.
URL:https://die-krawatte-wuppertal.de/event/zumba/2027-04-15/
ATTACH;FMTTYPE=image/jpeg:https://die-krawatte-wuppertal.de/wp-content/uploads/2026/02/zumba.jpg
END:VEVENT
BEGIN:VEVENT
DTSTART;TZID=UTC:20270419T170000
DTEND;TZID=UTC:20270419T200000
DTSTAMP:20260421T201911
CREATED:20260217T104630Z
LAST-MODIFIED:20260217T110231Z
UID:10000324-1808154000-1808164800@die-krawatte-wuppertal.de
SUMMARY:Zirkus Wunderkind
DESCRIPTION:Bei uns könnt ihr lernen:\n• Akrobatik\n• Turnen\n• Jonglieren\n• Einradfahren\n• Luftakrobatik\n• Pantomime \nMontag\, Dienstag und Mittwoch\nvon 17.00 bis 20.00 Uhr. \nOrt: Die Krawatte | Bockmühle 17a | 42289 Wuppertal
URL:https://die-krawatte-wuppertal.de/event/zirkus-wunderkind/2027-04-19/
ATTACH;FMTTYPE=image/webp:https://die-krawatte-wuppertal.de/wp-content/uploads/2026/02/Zirkus_6.webp
END:VEVENT
BEGIN:VEVENT
DTSTART;TZID=UTC:20270420T160000
DTEND;TZID=UTC:20270420T173000
DTSTAMP:20260421T201911
CREATED:20260217T134019Z
LAST-MODIFIED:20260217T141630Z
UID:10001487-1808236800-1808242200@die-krawatte-wuppertal.de
SUMMARY:Frühförderung
DESCRIPTION:Unsere Frühförderangebote begleiten Kinder und Familien von Anfang an: Bereits in der Krabbelgruppe schaffen wir Räume für frühe Begegnung\, spielerisches Lernen und vertrauensvolle Begleitung. \nAb 2026 bieten wir zusätzlich eine Kindergruppe für arabisch sprechende Frauen an\, die den Austausch stärkt und den Einstieg in Bildung und Alltag unterstützt.
URL:https://die-krawatte-wuppertal.de/event/lernfoerderung/2027-04-20/
ATTACH;FMTTYPE=image/webp:https://die-krawatte-wuppertal.de/wp-content/uploads/2026/02/Lern_3.webp
END:VEVENT
BEGIN:VEVENT
DTSTART;TZID=UTC:20270420T170000
DTEND;TZID=UTC:20270420T200000
DTSTAMP:20260421T201911
CREATED:20260217T104630Z
LAST-MODIFIED:20260217T110231Z
UID:10000645-1808240400-1808251200@die-krawatte-wuppertal.de
SUMMARY:Zirkus Wunderkind
DESCRIPTION:Bei uns könnt ihr lernen:\n• Akrobatik\n• Turnen\n• Jonglieren\n• Einradfahren\n• Luftakrobatik\n• Pantomime \nMontag\, Dienstag und Mittwoch\nvon 17.00 bis 20.00 Uhr. \nOrt: Die Krawatte | Bockmühle 17a | 42289 Wuppertal
URL:https://die-krawatte-wuppertal.de/event/zirkus-wunderkind/2027-04-20/
ATTACH;FMTTYPE=image/webp:https://die-krawatte-wuppertal.de/wp-content/uploads/2026/02/Zirkus_6.webp
END:VEVENT
BEGIN:VEVENT
DTSTART;TZID=UTC:20270421T170000
DTEND;TZID=UTC:20270421T200000
DTSTAMP:20260421T201911
CREATED:20260217T104630Z
LAST-MODIFIED:20260217T110231Z
UID:10000646-1808326800-1808337600@die-krawatte-wuppertal.de
SUMMARY:Zirkus Wunderkind
DESCRIPTION:Bei uns könnt ihr lernen:\n• Akrobatik\n• Turnen\n• Jonglieren\n• Einradfahren\n• Luftakrobatik\n• Pantomime \nMontag\, Dienstag und Mittwoch\nvon 17.00 bis 20.00 Uhr. \nOrt: Die Krawatte | Bockmühle 17a | 42289 Wuppertal
URL:https://die-krawatte-wuppertal.de/event/zirkus-wunderkind/2027-04-21/
ATTACH;FMTTYPE=image/webp:https://die-krawatte-wuppertal.de/wp-content/uploads/2026/02/Zirkus_6.webp
END:VEVENT
BEGIN:VEVENT
DTSTART;TZID=UTC:20270421T173000
DTEND;TZID=UTC:20270421T183000
DTSTAMP:20260421T201911
CREATED:20260217T102954Z
LAST-MODIFIED:20260217T110049Z
UID:10000062-1808328600-1808332200@die-krawatte-wuppertal.de
SUMMARY:Krawatten Chor
DESCRIPTION:Im Krawattenchor kommen Menschen aus unterschiedlichen Kulturen zusammen\, um gemeinsam Lieder in vielen Sprachen zu singen. Musik verbindet\, überwindet Grenzen und schafft Gemeinschaft – genau das erleben wir jede Woche. Bei uns geht es nicht um Perfektion\, sondern um Freude\, Begegnung und das gute Gefühl\, zusammen zu klingen. \nWir treffen uns mittwochs von 17:00 bis 18:30 Uhr im Paul-Gerhardt-Haus der Ev. Kirchengemeinde Heckinghausen. \nAlle sind willkommen – ganz gleich\, welche Sprache sie sprechen oder wie viel Gesangserfahrung sie mitbringen.
URL:https://die-krawatte-wuppertal.de/event/krawatten-chor/2027-04-21/
ATTACH;FMTTYPE=image/webp:https://die-krawatte-wuppertal.de/wp-content/uploads/2026/02/Krawatten_Chor.webp
END:VEVENT
BEGIN:VEVENT
DTSTART;TZID=UTC:20270422T174500
DTEND;TZID=UTC:20270422T184500
DTSTAMP:20260421T201911
CREATED:20260217T110603Z
LAST-MODIFIED:20260217T110604Z
UID:10001166-1808415900-1808419500@die-krawatte-wuppertal.de
SUMMARY:Zumba
DESCRIPTION:Zumba in der Krawatte.\nJeden Donnerstag\nvon 17.45 bis 18.45 Uhr.
URL:https://die-krawatte-wuppertal.de/event/zumba/2027-04-22/
ATTACH;FMTTYPE=image/jpeg:https://die-krawatte-wuppertal.de/wp-content/uploads/2026/02/zumba.jpg
END:VEVENT
BEGIN:VEVENT
DTSTART;TZID=UTC:20270423T150000
DTEND;TZID=UTC:20270423T170000
DTSTAMP:20260421T201911
CREATED:20260217T133526Z
LAST-MODIFIED:20260217T133604Z
UID:10001380-1808492400-1808499600@die-krawatte-wuppertal.de
SUMMARY:Krawattencafé
DESCRIPTION:Die Krawatte\, eine ehemalige Krawattenfabrik im Wuppertaler Osten\, ist heute ein lebendiger Ort der interkulturellen und interreligiösen Begegnung. Hier kommen Menschen unterschiedlicher Herkunft\, Generationen und Lebensgeschichten zusammen: Besucher*innen mit und ohne Fluchterfahrung\, Jung und Alt\, in Wuppertal Aufgewachsene ebenso wie neu Zugewanderte. Sie begegnen sich\, tauschen sich aus\, feiern gemeinsam und entwickeln Ideen für ihr Quartier. \nIm gemeinsamen Miteinander werden Unterschiede überbrückt und das Gefühl von Zusammenhalt gestärkt. Dabei entstehen Verbindungen und Freundschaften\, die im Alltag sonst kaum möglich wären. Die Angebote der Krawatte spiegeln diese Vielfalt wider: In einem Marionettenprojekt gestalten rund 30 Frauen ihre eigenen Figuren und erzählen damit persönliche Lebensgeschichten. Im Krawatten-Café wird gespielt\, Deutsch gelernt\, beraten und kreativ gearbeitet. \nTermin: Immer letzter Freitag im Monat\, von 15-17 Uhr.
URL:https://die-krawatte-wuppertal.de/event/krawattencafe/2027-04-23/
ATTACH;FMTTYPE=image/webp:https://die-krawatte-wuppertal.de/wp-content/uploads/2026/02/cafe_3.webp
END:VEVENT
BEGIN:VEVENT
DTSTART;TZID=UTC:20270426T170000
DTEND;TZID=UTC:20270426T200000
DTSTAMP:20260421T201911
CREATED:20260217T104630Z
LAST-MODIFIED:20260217T110231Z
UID:10000325-1808758800-1808769600@die-krawatte-wuppertal.de
SUMMARY:Zirkus Wunderkind
DESCRIPTION:Bei uns könnt ihr lernen:\n• Akrobatik\n• Turnen\n• Jonglieren\n• Einradfahren\n• Luftakrobatik\n• Pantomime \nMontag\, Dienstag und Mittwoch\nvon 17.00 bis 20.00 Uhr. \nOrt: Die Krawatte | Bockmühle 17a | 42289 Wuppertal
URL:https://die-krawatte-wuppertal.de/event/zirkus-wunderkind/2027-04-26/
ATTACH;FMTTYPE=image/webp:https://die-krawatte-wuppertal.de/wp-content/uploads/2026/02/Zirkus_6.webp
END:VEVENT
BEGIN:VEVENT
DTSTART;TZID=UTC:20270427T160000
DTEND;TZID=UTC:20270427T173000
DTSTAMP:20260421T201911
CREATED:20260217T134019Z
LAST-MODIFIED:20260217T141630Z
UID:10001488-1808841600-1808847000@die-krawatte-wuppertal.de
SUMMARY:Frühförderung
DESCRIPTION:Unsere Frühförderangebote begleiten Kinder und Familien von Anfang an: Bereits in der Krabbelgruppe schaffen wir Räume für frühe Begegnung\, spielerisches Lernen und vertrauensvolle Begleitung. \nAb 2026 bieten wir zusätzlich eine Kindergruppe für arabisch sprechende Frauen an\, die den Austausch stärkt und den Einstieg in Bildung und Alltag unterstützt.
URL:https://die-krawatte-wuppertal.de/event/lernfoerderung/2027-04-27/
ATTACH;FMTTYPE=image/webp:https://die-krawatte-wuppertal.de/wp-content/uploads/2026/02/Lern_3.webp
END:VEVENT
BEGIN:VEVENT
DTSTART;TZID=UTC:20270427T170000
DTEND;TZID=UTC:20270427T200000
DTSTAMP:20260421T201911
CREATED:20260217T104630Z
LAST-MODIFIED:20260217T110231Z
UID:10000647-1808845200-1808856000@die-krawatte-wuppertal.de
SUMMARY:Zirkus Wunderkind
DESCRIPTION:Bei uns könnt ihr lernen:\n• Akrobatik\n• Turnen\n• Jonglieren\n• Einradfahren\n• Luftakrobatik\n• Pantomime \nMontag\, Dienstag und Mittwoch\nvon 17.00 bis 20.00 Uhr. \nOrt: Die Krawatte | Bockmühle 17a | 42289 Wuppertal
URL:https://die-krawatte-wuppertal.de/event/zirkus-wunderkind/2027-04-27/
ATTACH;FMTTYPE=image/webp:https://die-krawatte-wuppertal.de/wp-content/uploads/2026/02/Zirkus_6.webp
END:VEVENT
BEGIN:VEVENT
DTSTART;TZID=UTC:20270428T170000
DTEND;TZID=UTC:20270428T200000
DTSTAMP:20260421T201911
CREATED:20260217T104630Z
LAST-MODIFIED:20260217T110231Z
UID:10000648-1808931600-1808942400@die-krawatte-wuppertal.de
SUMMARY:Zirkus Wunderkind
DESCRIPTION:Bei uns könnt ihr lernen:\n• Akrobatik\n• Turnen\n• Jonglieren\n• Einradfahren\n• Luftakrobatik\n• Pantomime \nMontag\, Dienstag und Mittwoch\nvon 17.00 bis 20.00 Uhr. \nOrt: Die Krawatte | Bockmühle 17a | 42289 Wuppertal
URL:https://die-krawatte-wuppertal.de/event/zirkus-wunderkind/2027-04-28/
ATTACH;FMTTYPE=image/webp:https://die-krawatte-wuppertal.de/wp-content/uploads/2026/02/Zirkus_6.webp
END:VEVENT
BEGIN:VEVENT
DTSTART;TZID=UTC:20270428T173000
DTEND;TZID=UTC:20270428T183000
DTSTAMP:20260421T201911
CREATED:20260217T102954Z
LAST-MODIFIED:20260217T110049Z
UID:10000063-1808933400-1808937000@die-krawatte-wuppertal.de
SUMMARY:Krawatten Chor
DESCRIPTION:Im Krawattenchor kommen Menschen aus unterschiedlichen Kulturen zusammen\, um gemeinsam Lieder in vielen Sprachen zu singen. Musik verbindet\, überwindet Grenzen und schafft Gemeinschaft – genau das erleben wir jede Woche. Bei uns geht es nicht um Perfektion\, sondern um Freude\, Begegnung und das gute Gefühl\, zusammen zu klingen. \nWir treffen uns mittwochs von 17:00 bis 18:30 Uhr im Paul-Gerhardt-Haus der Ev. Kirchengemeinde Heckinghausen. \nAlle sind willkommen – ganz gleich\, welche Sprache sie sprechen oder wie viel Gesangserfahrung sie mitbringen.
URL:https://die-krawatte-wuppertal.de/event/krawatten-chor/2027-04-28/
ATTACH;FMTTYPE=image/webp:https://die-krawatte-wuppertal.de/wp-content/uploads/2026/02/Krawatten_Chor.webp
END:VEVENT
BEGIN:VEVENT
DTSTART;TZID=UTC:20270429T174500
DTEND;TZID=UTC:20270429T184500
DTSTAMP:20260421T201911
CREATED:20260217T110603Z
LAST-MODIFIED:20260217T110604Z
UID:10001167-1809020700-1809024300@die-krawatte-wuppertal.de
SUMMARY:Zumba
DESCRIPTION:Zumba in der Krawatte.\nJeden Donnerstag\nvon 17.45 bis 18.45 Uhr.
URL:https://die-krawatte-wuppertal.de/event/zumba/2027-04-29/
ATTACH;FMTTYPE=image/jpeg:https://die-krawatte-wuppertal.de/wp-content/uploads/2026/02/zumba.jpg
END:VEVENT
END:VCALENDAR