BEGIN:VCALENDAR
VERSION:2.0
PRODID:-//Die Krawatte Wuppertal - ECPv6.15.16//NONSGML v1.0//EN
CALSCALE:GREGORIAN
METHOD:PUBLISH
X-WR-CALNAME:Die Krawatte Wuppertal
X-ORIGINAL-URL:https://die-krawatte-wuppertal.de
X-WR-CALDESC:Veranstaltungen für Die Krawatte Wuppertal
REFRESH-INTERVAL;VALUE=DURATION:PT1H
X-Robots-Tag:noindex
X-PUBLISHED-TTL:PT1H
BEGIN:VTIMEZONE
TZID:UTC
BEGIN:STANDARD
TZOFFSETFROM:+0000
TZOFFSETTO:+0000
TZNAME:UTC
DTSTART:20260101T000000
END:STANDARD
END:VTIMEZONE
BEGIN:VEVENT
DTSTART;TZID=UTC:20270601T160000
DTEND;TZID=UTC:20270601T173000
DTSTAMP:20260421T215615
CREATED:20260217T134019Z
LAST-MODIFIED:20260217T141630Z
UID:10001493-1811865600-1811871000@die-krawatte-wuppertal.de
SUMMARY:Frühförderung
DESCRIPTION:Unsere Frühförderangebote begleiten Kinder und Familien von Anfang an: Bereits in der Krabbelgruppe schaffen wir Räume für frühe Begegnung\, spielerisches Lernen und vertrauensvolle Begleitung. \nAb 2026 bieten wir zusätzlich eine Kindergruppe für arabisch sprechende Frauen an\, die den Austausch stärkt und den Einstieg in Bildung und Alltag unterstützt.
URL:https://die-krawatte-wuppertal.de/event/lernfoerderung/2027-06-01/
ATTACH;FMTTYPE=image/webp:https://die-krawatte-wuppertal.de/wp-content/uploads/2026/02/Lern_3.webp
END:VEVENT
BEGIN:VEVENT
DTSTART;TZID=UTC:20270601T170000
DTEND;TZID=UTC:20270601T200000
DTSTAMP:20260421T215615
CREATED:20260217T104630Z
LAST-MODIFIED:20260217T110231Z
UID:10000657-1811869200-1811880000@die-krawatte-wuppertal.de
SUMMARY:Zirkus Wunderkind
DESCRIPTION:Bei uns könnt ihr lernen:\n• Akrobatik\n• Turnen\n• Jonglieren\n• Einradfahren\n• Luftakrobatik\n• Pantomime \nMontag\, Dienstag und Mittwoch\nvon 17.00 bis 20.00 Uhr. \nOrt: Die Krawatte | Bockmühle 17a | 42289 Wuppertal
URL:https://die-krawatte-wuppertal.de/event/zirkus-wunderkind/2027-06-01/
ATTACH;FMTTYPE=image/webp:https://die-krawatte-wuppertal.de/wp-content/uploads/2026/02/Zirkus_6.webp
END:VEVENT
BEGIN:VEVENT
DTSTART;TZID=UTC:20270602T170000
DTEND;TZID=UTC:20270602T200000
DTSTAMP:20260421T215615
CREATED:20260217T104630Z
LAST-MODIFIED:20260217T110231Z
UID:10000658-1811955600-1811966400@die-krawatte-wuppertal.de
SUMMARY:Zirkus Wunderkind
DESCRIPTION:Bei uns könnt ihr lernen:\n• Akrobatik\n• Turnen\n• Jonglieren\n• Einradfahren\n• Luftakrobatik\n• Pantomime \nMontag\, Dienstag und Mittwoch\nvon 17.00 bis 20.00 Uhr. \nOrt: Die Krawatte | Bockmühle 17a | 42289 Wuppertal
URL:https://die-krawatte-wuppertal.de/event/zirkus-wunderkind/2027-06-02/
ATTACH;FMTTYPE=image/webp:https://die-krawatte-wuppertal.de/wp-content/uploads/2026/02/Zirkus_6.webp
END:VEVENT
BEGIN:VEVENT
DTSTART;TZID=UTC:20270602T173000
DTEND;TZID=UTC:20270602T183000
DTSTAMP:20260421T215615
CREATED:20260217T102954Z
LAST-MODIFIED:20260217T110049Z
UID:10000068-1811957400-1811961000@die-krawatte-wuppertal.de
SUMMARY:Krawatten Chor
DESCRIPTION:Im Krawattenchor kommen Menschen aus unterschiedlichen Kulturen zusammen\, um gemeinsam Lieder in vielen Sprachen zu singen. Musik verbindet\, überwindet Grenzen und schafft Gemeinschaft – genau das erleben wir jede Woche. Bei uns geht es nicht um Perfektion\, sondern um Freude\, Begegnung und das gute Gefühl\, zusammen zu klingen. \nWir treffen uns mittwochs von 17:00 bis 18:30 Uhr im Paul-Gerhardt-Haus der Ev. Kirchengemeinde Heckinghausen. \nAlle sind willkommen – ganz gleich\, welche Sprache sie sprechen oder wie viel Gesangserfahrung sie mitbringen.
URL:https://die-krawatte-wuppertal.de/event/krawatten-chor/2027-06-02/
ATTACH;FMTTYPE=image/webp:https://die-krawatte-wuppertal.de/wp-content/uploads/2026/02/Krawatten_Chor.webp
END:VEVENT
BEGIN:VEVENT
DTSTART;TZID=UTC:20270603T174500
DTEND;TZID=UTC:20270603T184500
DTSTAMP:20260421T215615
CREATED:20260217T110603Z
LAST-MODIFIED:20260217T110604Z
UID:10001172-1812044700-1812048300@die-krawatte-wuppertal.de
SUMMARY:Zumba
DESCRIPTION:Zumba in der Krawatte.\nJeden Donnerstag\nvon 17.45 bis 18.45 Uhr.
URL:https://die-krawatte-wuppertal.de/event/zumba/2027-06-03/
ATTACH;FMTTYPE=image/jpeg:https://die-krawatte-wuppertal.de/wp-content/uploads/2026/02/zumba.jpg
END:VEVENT
BEGIN:VEVENT
DTSTART;TZID=UTC:20270606T130000
DTEND;TZID=UTC:20270606T170000
DTSTAMP:20260421T215615
CREATED:20260217T105938Z
LAST-MODIFIED:20260217T105939Z
UID:10001060-1812286800-1812301200@die-krawatte-wuppertal.de
SUMMARY:TechCafé
DESCRIPTION:TechCafé: Dein Einstieg in die IT-Welt – kostenlos und für jeden! \nDas TechCafé bietet kostenlose IT-Kurse und Unterstützung für alle an\, die sich in der digitalen Welt besser zurechtfinden möchten. Unser Angebot umfasst die individuelle Beratung und Fehlersuche für Geräte wie Computer\, Laptops und Tablets sowie umfassende Beratung zur sicheren Softwarenutzung und IT-Sicherheit. Wir unterstützen dich bei der Webseitengestaltung\, beraten bei digitalen Projekten und bieten Schulungen in einfacher Programmierung sowie Einführungen in gängige Anwendungen an. \nDarüber hinaus vermitteln wir praktische Kenntnisse in der Datenverarbeitung mit Fokus auf Cloud-Anwendungen\, CSV-Bearbeitung und Datenkonvertierung. Wir helfen dir dabei\, Programme zu erlernen\, die für den täglichen Gebrauch wichtig sind. Auch bei der Technik selbst lassen wir dich nicht im Stich: Wir führen kleinere Hardware-Reparaturen durch\, tauschen Bauteile aus (sofern verfügbar) und kümmern uns um die Fehlerbehebung sowie die regelmäßige Wartung deiner Geräte\, um deren Lebensdauer zu verlängern. \nWann? Jeden ersten Sonntag im Monat von 13:00 bis 17:00 Uhr.
URL:https://die-krawatte-wuppertal.de/event/techcafe/2027-06-06/
ATTACH;FMTTYPE=image/jpeg:https://die-krawatte-wuppertal.de/wp-content/uploads/2026/02/techcafe.jpg
END:VEVENT
BEGIN:VEVENT
DTSTART;TZID=UTC:20270607T170000
DTEND;TZID=UTC:20270607T200000
DTSTAMP:20260421T215615
CREATED:20260217T104630Z
LAST-MODIFIED:20260217T110231Z
UID:10000331-1812387600-1812398400@die-krawatte-wuppertal.de
SUMMARY:Zirkus Wunderkind
DESCRIPTION:Bei uns könnt ihr lernen:\n• Akrobatik\n• Turnen\n• Jonglieren\n• Einradfahren\n• Luftakrobatik\n• Pantomime \nMontag\, Dienstag und Mittwoch\nvon 17.00 bis 20.00 Uhr. \nOrt: Die Krawatte | Bockmühle 17a | 42289 Wuppertal
URL:https://die-krawatte-wuppertal.de/event/zirkus-wunderkind/2027-06-07/
ATTACH;FMTTYPE=image/webp:https://die-krawatte-wuppertal.de/wp-content/uploads/2026/02/Zirkus_6.webp
END:VEVENT
BEGIN:VEVENT
DTSTART;TZID=UTC:20270608T160000
DTEND;TZID=UTC:20270608T173000
DTSTAMP:20260421T215615
CREATED:20260217T134019Z
LAST-MODIFIED:20260217T141630Z
UID:10001494-1812470400-1812475800@die-krawatte-wuppertal.de
SUMMARY:Frühförderung
DESCRIPTION:Unsere Frühförderangebote begleiten Kinder und Familien von Anfang an: Bereits in der Krabbelgruppe schaffen wir Räume für frühe Begegnung\, spielerisches Lernen und vertrauensvolle Begleitung. \nAb 2026 bieten wir zusätzlich eine Kindergruppe für arabisch sprechende Frauen an\, die den Austausch stärkt und den Einstieg in Bildung und Alltag unterstützt.
URL:https://die-krawatte-wuppertal.de/event/lernfoerderung/2027-06-08/
ATTACH;FMTTYPE=image/webp:https://die-krawatte-wuppertal.de/wp-content/uploads/2026/02/Lern_3.webp
END:VEVENT
BEGIN:VEVENT
DTSTART;TZID=UTC:20270608T170000
DTEND;TZID=UTC:20270608T200000
DTSTAMP:20260421T215615
CREATED:20260217T104630Z
LAST-MODIFIED:20260217T110231Z
UID:10000659-1812474000-1812484800@die-krawatte-wuppertal.de
SUMMARY:Zirkus Wunderkind
DESCRIPTION:Bei uns könnt ihr lernen:\n• Akrobatik\n• Turnen\n• Jonglieren\n• Einradfahren\n• Luftakrobatik\n• Pantomime \nMontag\, Dienstag und Mittwoch\nvon 17.00 bis 20.00 Uhr. \nOrt: Die Krawatte | Bockmühle 17a | 42289 Wuppertal
URL:https://die-krawatte-wuppertal.de/event/zirkus-wunderkind/2027-06-08/
ATTACH;FMTTYPE=image/webp:https://die-krawatte-wuppertal.de/wp-content/uploads/2026/02/Zirkus_6.webp
END:VEVENT
BEGIN:VEVENT
DTSTART;TZID=UTC:20270609T170000
DTEND;TZID=UTC:20270609T200000
DTSTAMP:20260421T215615
CREATED:20260217T104630Z
LAST-MODIFIED:20260217T110231Z
UID:10000660-1812560400-1812571200@die-krawatte-wuppertal.de
SUMMARY:Zirkus Wunderkind
DESCRIPTION:Bei uns könnt ihr lernen:\n• Akrobatik\n• Turnen\n• Jonglieren\n• Einradfahren\n• Luftakrobatik\n• Pantomime \nMontag\, Dienstag und Mittwoch\nvon 17.00 bis 20.00 Uhr. \nOrt: Die Krawatte | Bockmühle 17a | 42289 Wuppertal
URL:https://die-krawatte-wuppertal.de/event/zirkus-wunderkind/2027-06-09/
ATTACH;FMTTYPE=image/webp:https://die-krawatte-wuppertal.de/wp-content/uploads/2026/02/Zirkus_6.webp
END:VEVENT
BEGIN:VEVENT
DTSTART;TZID=UTC:20270609T173000
DTEND;TZID=UTC:20270609T183000
DTSTAMP:20260421T215615
CREATED:20260217T102954Z
LAST-MODIFIED:20260217T110049Z
UID:10000069-1812562200-1812565800@die-krawatte-wuppertal.de
SUMMARY:Krawatten Chor
DESCRIPTION:Im Krawattenchor kommen Menschen aus unterschiedlichen Kulturen zusammen\, um gemeinsam Lieder in vielen Sprachen zu singen. Musik verbindet\, überwindet Grenzen und schafft Gemeinschaft – genau das erleben wir jede Woche. Bei uns geht es nicht um Perfektion\, sondern um Freude\, Begegnung und das gute Gefühl\, zusammen zu klingen. \nWir treffen uns mittwochs von 17:00 bis 18:30 Uhr im Paul-Gerhardt-Haus der Ev. Kirchengemeinde Heckinghausen. \nAlle sind willkommen – ganz gleich\, welche Sprache sie sprechen oder wie viel Gesangserfahrung sie mitbringen.
URL:https://die-krawatte-wuppertal.de/event/krawatten-chor/2027-06-09/
ATTACH;FMTTYPE=image/webp:https://die-krawatte-wuppertal.de/wp-content/uploads/2026/02/Krawatten_Chor.webp
END:VEVENT
BEGIN:VEVENT
DTSTART;TZID=UTC:20270610T174500
DTEND;TZID=UTC:20270610T184500
DTSTAMP:20260421T215615
CREATED:20260217T110603Z
LAST-MODIFIED:20260217T110604Z
UID:10001173-1812649500-1812653100@die-krawatte-wuppertal.de
SUMMARY:Zumba
DESCRIPTION:Zumba in der Krawatte.\nJeden Donnerstag\nvon 17.45 bis 18.45 Uhr.
URL:https://die-krawatte-wuppertal.de/event/zumba/2027-06-10/
ATTACH;FMTTYPE=image/jpeg:https://die-krawatte-wuppertal.de/wp-content/uploads/2026/02/zumba.jpg
END:VEVENT
BEGIN:VEVENT
DTSTART;TZID=UTC:20270614T170000
DTEND;TZID=UTC:20270614T200000
DTSTAMP:20260421T215615
CREATED:20260217T104630Z
LAST-MODIFIED:20260217T110231Z
UID:10000332-1812992400-1813003200@die-krawatte-wuppertal.de
SUMMARY:Zirkus Wunderkind
DESCRIPTION:Bei uns könnt ihr lernen:\n• Akrobatik\n• Turnen\n• Jonglieren\n• Einradfahren\n• Luftakrobatik\n• Pantomime \nMontag\, Dienstag und Mittwoch\nvon 17.00 bis 20.00 Uhr. \nOrt: Die Krawatte | Bockmühle 17a | 42289 Wuppertal
URL:https://die-krawatte-wuppertal.de/event/zirkus-wunderkind/2027-06-14/
ATTACH;FMTTYPE=image/webp:https://die-krawatte-wuppertal.de/wp-content/uploads/2026/02/Zirkus_6.webp
END:VEVENT
BEGIN:VEVENT
DTSTART;TZID=UTC:20270615T160000
DTEND;TZID=UTC:20270615T173000
DTSTAMP:20260421T215615
CREATED:20260217T134019Z
LAST-MODIFIED:20260217T141630Z
UID:10001495-1813075200-1813080600@die-krawatte-wuppertal.de
SUMMARY:Frühförderung
DESCRIPTION:Unsere Frühförderangebote begleiten Kinder und Familien von Anfang an: Bereits in der Krabbelgruppe schaffen wir Räume für frühe Begegnung\, spielerisches Lernen und vertrauensvolle Begleitung. \nAb 2026 bieten wir zusätzlich eine Kindergruppe für arabisch sprechende Frauen an\, die den Austausch stärkt und den Einstieg in Bildung und Alltag unterstützt.
URL:https://die-krawatte-wuppertal.de/event/lernfoerderung/2027-06-15/
ATTACH;FMTTYPE=image/webp:https://die-krawatte-wuppertal.de/wp-content/uploads/2026/02/Lern_3.webp
END:VEVENT
BEGIN:VEVENT
DTSTART;TZID=UTC:20270615T170000
DTEND;TZID=UTC:20270615T200000
DTSTAMP:20260421T215615
CREATED:20260217T104630Z
LAST-MODIFIED:20260217T110231Z
UID:10000661-1813078800-1813089600@die-krawatte-wuppertal.de
SUMMARY:Zirkus Wunderkind
DESCRIPTION:Bei uns könnt ihr lernen:\n• Akrobatik\n• Turnen\n• Jonglieren\n• Einradfahren\n• Luftakrobatik\n• Pantomime \nMontag\, Dienstag und Mittwoch\nvon 17.00 bis 20.00 Uhr. \nOrt: Die Krawatte | Bockmühle 17a | 42289 Wuppertal
URL:https://die-krawatte-wuppertal.de/event/zirkus-wunderkind/2027-06-15/
ATTACH;FMTTYPE=image/webp:https://die-krawatte-wuppertal.de/wp-content/uploads/2026/02/Zirkus_6.webp
END:VEVENT
BEGIN:VEVENT
DTSTART;TZID=UTC:20270616T170000
DTEND;TZID=UTC:20270616T200000
DTSTAMP:20260421T215615
CREATED:20260217T104630Z
LAST-MODIFIED:20260217T110231Z
UID:10000662-1813165200-1813176000@die-krawatte-wuppertal.de
SUMMARY:Zirkus Wunderkind
DESCRIPTION:Bei uns könnt ihr lernen:\n• Akrobatik\n• Turnen\n• Jonglieren\n• Einradfahren\n• Luftakrobatik\n• Pantomime \nMontag\, Dienstag und Mittwoch\nvon 17.00 bis 20.00 Uhr. \nOrt: Die Krawatte | Bockmühle 17a | 42289 Wuppertal
URL:https://die-krawatte-wuppertal.de/event/zirkus-wunderkind/2027-06-16/
ATTACH;FMTTYPE=image/webp:https://die-krawatte-wuppertal.de/wp-content/uploads/2026/02/Zirkus_6.webp
END:VEVENT
BEGIN:VEVENT
DTSTART;TZID=UTC:20270616T173000
DTEND;TZID=UTC:20270616T183000
DTSTAMP:20260421T215615
CREATED:20260217T102954Z
LAST-MODIFIED:20260217T110049Z
UID:10000070-1813167000-1813170600@die-krawatte-wuppertal.de
SUMMARY:Krawatten Chor
DESCRIPTION:Im Krawattenchor kommen Menschen aus unterschiedlichen Kulturen zusammen\, um gemeinsam Lieder in vielen Sprachen zu singen. Musik verbindet\, überwindet Grenzen und schafft Gemeinschaft – genau das erleben wir jede Woche. Bei uns geht es nicht um Perfektion\, sondern um Freude\, Begegnung und das gute Gefühl\, zusammen zu klingen. \nWir treffen uns mittwochs von 17:00 bis 18:30 Uhr im Paul-Gerhardt-Haus der Ev. Kirchengemeinde Heckinghausen. \nAlle sind willkommen – ganz gleich\, welche Sprache sie sprechen oder wie viel Gesangserfahrung sie mitbringen.
URL:https://die-krawatte-wuppertal.de/event/krawatten-chor/2027-06-16/
ATTACH;FMTTYPE=image/webp:https://die-krawatte-wuppertal.de/wp-content/uploads/2026/02/Krawatten_Chor.webp
END:VEVENT
BEGIN:VEVENT
DTSTART;TZID=UTC:20270617T174500
DTEND;TZID=UTC:20270617T184500
DTSTAMP:20260421T215615
CREATED:20260217T110603Z
LAST-MODIFIED:20260217T110604Z
UID:10001174-1813254300-1813257900@die-krawatte-wuppertal.de
SUMMARY:Zumba
DESCRIPTION:Zumba in der Krawatte.\nJeden Donnerstag\nvon 17.45 bis 18.45 Uhr.
URL:https://die-krawatte-wuppertal.de/event/zumba/2027-06-17/
ATTACH;FMTTYPE=image/jpeg:https://die-krawatte-wuppertal.de/wp-content/uploads/2026/02/zumba.jpg
END:VEVENT
BEGIN:VEVENT
DTSTART;TZID=UTC:20270621T170000
DTEND;TZID=UTC:20270621T200000
DTSTAMP:20260421T215615
CREATED:20260217T104630Z
LAST-MODIFIED:20260217T110231Z
UID:10000333-1813597200-1813608000@die-krawatte-wuppertal.de
SUMMARY:Zirkus Wunderkind
DESCRIPTION:Bei uns könnt ihr lernen:\n• Akrobatik\n• Turnen\n• Jonglieren\n• Einradfahren\n• Luftakrobatik\n• Pantomime \nMontag\, Dienstag und Mittwoch\nvon 17.00 bis 20.00 Uhr. \nOrt: Die Krawatte | Bockmühle 17a | 42289 Wuppertal
URL:https://die-krawatte-wuppertal.de/event/zirkus-wunderkind/2027-06-21/
ATTACH;FMTTYPE=image/webp:https://die-krawatte-wuppertal.de/wp-content/uploads/2026/02/Zirkus_6.webp
END:VEVENT
BEGIN:VEVENT
DTSTART;TZID=UTC:20270622T160000
DTEND;TZID=UTC:20270622T173000
DTSTAMP:20260421T215615
CREATED:20260217T134019Z
LAST-MODIFIED:20260217T141630Z
UID:10001496-1813680000-1813685400@die-krawatte-wuppertal.de
SUMMARY:Frühförderung
DESCRIPTION:Unsere Frühförderangebote begleiten Kinder und Familien von Anfang an: Bereits in der Krabbelgruppe schaffen wir Räume für frühe Begegnung\, spielerisches Lernen und vertrauensvolle Begleitung. \nAb 2026 bieten wir zusätzlich eine Kindergruppe für arabisch sprechende Frauen an\, die den Austausch stärkt und den Einstieg in Bildung und Alltag unterstützt.
URL:https://die-krawatte-wuppertal.de/event/lernfoerderung/2027-06-22/
ATTACH;FMTTYPE=image/webp:https://die-krawatte-wuppertal.de/wp-content/uploads/2026/02/Lern_3.webp
END:VEVENT
BEGIN:VEVENT
DTSTART;TZID=UTC:20270622T170000
DTEND;TZID=UTC:20270622T200000
DTSTAMP:20260421T215615
CREATED:20260217T104630Z
LAST-MODIFIED:20260217T110231Z
UID:10000663-1813683600-1813694400@die-krawatte-wuppertal.de
SUMMARY:Zirkus Wunderkind
DESCRIPTION:Bei uns könnt ihr lernen:\n• Akrobatik\n• Turnen\n• Jonglieren\n• Einradfahren\n• Luftakrobatik\n• Pantomime \nMontag\, Dienstag und Mittwoch\nvon 17.00 bis 20.00 Uhr. \nOrt: Die Krawatte | Bockmühle 17a | 42289 Wuppertal
URL:https://die-krawatte-wuppertal.de/event/zirkus-wunderkind/2027-06-22/
ATTACH;FMTTYPE=image/webp:https://die-krawatte-wuppertal.de/wp-content/uploads/2026/02/Zirkus_6.webp
END:VEVENT
BEGIN:VEVENT
DTSTART;TZID=UTC:20270623T170000
DTEND;TZID=UTC:20270623T200000
DTSTAMP:20260421T215615
CREATED:20260217T104630Z
LAST-MODIFIED:20260217T110231Z
UID:10000664-1813770000-1813780800@die-krawatte-wuppertal.de
SUMMARY:Zirkus Wunderkind
DESCRIPTION:Bei uns könnt ihr lernen:\n• Akrobatik\n• Turnen\n• Jonglieren\n• Einradfahren\n• Luftakrobatik\n• Pantomime \nMontag\, Dienstag und Mittwoch\nvon 17.00 bis 20.00 Uhr. \nOrt: Die Krawatte | Bockmühle 17a | 42289 Wuppertal
URL:https://die-krawatte-wuppertal.de/event/zirkus-wunderkind/2027-06-23/
ATTACH;FMTTYPE=image/webp:https://die-krawatte-wuppertal.de/wp-content/uploads/2026/02/Zirkus_6.webp
END:VEVENT
BEGIN:VEVENT
DTSTART;TZID=UTC:20270623T173000
DTEND;TZID=UTC:20270623T183000
DTSTAMP:20260421T215615
CREATED:20260217T102954Z
LAST-MODIFIED:20260217T110049Z
UID:10000071-1813771800-1813775400@die-krawatte-wuppertal.de
SUMMARY:Krawatten Chor
DESCRIPTION:Im Krawattenchor kommen Menschen aus unterschiedlichen Kulturen zusammen\, um gemeinsam Lieder in vielen Sprachen zu singen. Musik verbindet\, überwindet Grenzen und schafft Gemeinschaft – genau das erleben wir jede Woche. Bei uns geht es nicht um Perfektion\, sondern um Freude\, Begegnung und das gute Gefühl\, zusammen zu klingen. \nWir treffen uns mittwochs von 17:00 bis 18:30 Uhr im Paul-Gerhardt-Haus der Ev. Kirchengemeinde Heckinghausen. \nAlle sind willkommen – ganz gleich\, welche Sprache sie sprechen oder wie viel Gesangserfahrung sie mitbringen.
URL:https://die-krawatte-wuppertal.de/event/krawatten-chor/2027-06-23/
ATTACH;FMTTYPE=image/webp:https://die-krawatte-wuppertal.de/wp-content/uploads/2026/02/Krawatten_Chor.webp
END:VEVENT
BEGIN:VEVENT
DTSTART;TZID=UTC:20270624T174500
DTEND;TZID=UTC:20270624T184500
DTSTAMP:20260421T215615
CREATED:20260217T110603Z
LAST-MODIFIED:20260217T110604Z
UID:10001175-1813859100-1813862700@die-krawatte-wuppertal.de
SUMMARY:Zumba
DESCRIPTION:Zumba in der Krawatte.\nJeden Donnerstag\nvon 17.45 bis 18.45 Uhr.
URL:https://die-krawatte-wuppertal.de/event/zumba/2027-06-24/
ATTACH;FMTTYPE=image/jpeg:https://die-krawatte-wuppertal.de/wp-content/uploads/2026/02/zumba.jpg
END:VEVENT
BEGIN:VEVENT
DTSTART;TZID=UTC:20270625T150000
DTEND;TZID=UTC:20270625T170000
DTSTAMP:20260421T215615
CREATED:20260217T133526Z
LAST-MODIFIED:20260217T133604Z
UID:10001382-1813935600-1813942800@die-krawatte-wuppertal.de
SUMMARY:Krawattencafé
DESCRIPTION:Die Krawatte\, eine ehemalige Krawattenfabrik im Wuppertaler Osten\, ist heute ein lebendiger Ort der interkulturellen und interreligiösen Begegnung. Hier kommen Menschen unterschiedlicher Herkunft\, Generationen und Lebensgeschichten zusammen: Besucher*innen mit und ohne Fluchterfahrung\, Jung und Alt\, in Wuppertal Aufgewachsene ebenso wie neu Zugewanderte. Sie begegnen sich\, tauschen sich aus\, feiern gemeinsam und entwickeln Ideen für ihr Quartier. \nIm gemeinsamen Miteinander werden Unterschiede überbrückt und das Gefühl von Zusammenhalt gestärkt. Dabei entstehen Verbindungen und Freundschaften\, die im Alltag sonst kaum möglich wären. Die Angebote der Krawatte spiegeln diese Vielfalt wider: In einem Marionettenprojekt gestalten rund 30 Frauen ihre eigenen Figuren und erzählen damit persönliche Lebensgeschichten. Im Krawatten-Café wird gespielt\, Deutsch gelernt\, beraten und kreativ gearbeitet. \nTermin: Immer letzter Freitag im Monat\, von 15-17 Uhr.
URL:https://die-krawatte-wuppertal.de/event/krawattencafe/2027-06-25/
ATTACH;FMTTYPE=image/webp:https://die-krawatte-wuppertal.de/wp-content/uploads/2026/02/cafe_3.webp
END:VEVENT
BEGIN:VEVENT
DTSTART;TZID=UTC:20270628T170000
DTEND;TZID=UTC:20270628T200000
DTSTAMP:20260421T215615
CREATED:20260217T104630Z
LAST-MODIFIED:20260217T110231Z
UID:10000334-1814202000-1814212800@die-krawatte-wuppertal.de
SUMMARY:Zirkus Wunderkind
DESCRIPTION:Bei uns könnt ihr lernen:\n• Akrobatik\n• Turnen\n• Jonglieren\n• Einradfahren\n• Luftakrobatik\n• Pantomime \nMontag\, Dienstag und Mittwoch\nvon 17.00 bis 20.00 Uhr. \nOrt: Die Krawatte | Bockmühle 17a | 42289 Wuppertal
URL:https://die-krawatte-wuppertal.de/event/zirkus-wunderkind/2027-06-28/
ATTACH;FMTTYPE=image/webp:https://die-krawatte-wuppertal.de/wp-content/uploads/2026/02/Zirkus_6.webp
END:VEVENT
BEGIN:VEVENT
DTSTART;TZID=UTC:20270629T160000
DTEND;TZID=UTC:20270629T173000
DTSTAMP:20260421T215615
CREATED:20260217T134019Z
LAST-MODIFIED:20260217T141630Z
UID:10001497-1814284800-1814290200@die-krawatte-wuppertal.de
SUMMARY:Frühförderung
DESCRIPTION:Unsere Frühförderangebote begleiten Kinder und Familien von Anfang an: Bereits in der Krabbelgruppe schaffen wir Räume für frühe Begegnung\, spielerisches Lernen und vertrauensvolle Begleitung. \nAb 2026 bieten wir zusätzlich eine Kindergruppe für arabisch sprechende Frauen an\, die den Austausch stärkt und den Einstieg in Bildung und Alltag unterstützt.
URL:https://die-krawatte-wuppertal.de/event/lernfoerderung/2027-06-29/
ATTACH;FMTTYPE=image/webp:https://die-krawatte-wuppertal.de/wp-content/uploads/2026/02/Lern_3.webp
END:VEVENT
BEGIN:VEVENT
DTSTART;TZID=UTC:20270629T170000
DTEND;TZID=UTC:20270629T200000
DTSTAMP:20260421T215615
CREATED:20260217T104630Z
LAST-MODIFIED:20260217T110231Z
UID:10000665-1814288400-1814299200@die-krawatte-wuppertal.de
SUMMARY:Zirkus Wunderkind
DESCRIPTION:Bei uns könnt ihr lernen:\n• Akrobatik\n• Turnen\n• Jonglieren\n• Einradfahren\n• Luftakrobatik\n• Pantomime \nMontag\, Dienstag und Mittwoch\nvon 17.00 bis 20.00 Uhr. \nOrt: Die Krawatte | Bockmühle 17a | 42289 Wuppertal
URL:https://die-krawatte-wuppertal.de/event/zirkus-wunderkind/2027-06-29/
ATTACH;FMTTYPE=image/webp:https://die-krawatte-wuppertal.de/wp-content/uploads/2026/02/Zirkus_6.webp
END:VEVENT
BEGIN:VEVENT
DTSTART;TZID=UTC:20270630T170000
DTEND;TZID=UTC:20270630T200000
DTSTAMP:20260421T215615
CREATED:20260217T104630Z
LAST-MODIFIED:20260217T110231Z
UID:10000666-1814374800-1814385600@die-krawatte-wuppertal.de
SUMMARY:Zirkus Wunderkind
DESCRIPTION:Bei uns könnt ihr lernen:\n• Akrobatik\n• Turnen\n• Jonglieren\n• Einradfahren\n• Luftakrobatik\n• Pantomime \nMontag\, Dienstag und Mittwoch\nvon 17.00 bis 20.00 Uhr. \nOrt: Die Krawatte | Bockmühle 17a | 42289 Wuppertal
URL:https://die-krawatte-wuppertal.de/event/zirkus-wunderkind/2027-06-30/
ATTACH;FMTTYPE=image/webp:https://die-krawatte-wuppertal.de/wp-content/uploads/2026/02/Zirkus_6.webp
END:VEVENT
BEGIN:VEVENT
DTSTART;TZID=UTC:20270630T173000
DTEND;TZID=UTC:20270630T183000
DTSTAMP:20260421T215615
CREATED:20260217T102954Z
LAST-MODIFIED:20260217T110049Z
UID:10000072-1814376600-1814380200@die-krawatte-wuppertal.de
SUMMARY:Krawatten Chor
DESCRIPTION:Im Krawattenchor kommen Menschen aus unterschiedlichen Kulturen zusammen\, um gemeinsam Lieder in vielen Sprachen zu singen. Musik verbindet\, überwindet Grenzen und schafft Gemeinschaft – genau das erleben wir jede Woche. Bei uns geht es nicht um Perfektion\, sondern um Freude\, Begegnung und das gute Gefühl\, zusammen zu klingen. \nWir treffen uns mittwochs von 17:00 bis 18:30 Uhr im Paul-Gerhardt-Haus der Ev. Kirchengemeinde Heckinghausen. \nAlle sind willkommen – ganz gleich\, welche Sprache sie sprechen oder wie viel Gesangserfahrung sie mitbringen.
URL:https://die-krawatte-wuppertal.de/event/krawatten-chor/2027-06-30/
ATTACH;FMTTYPE=image/webp:https://die-krawatte-wuppertal.de/wp-content/uploads/2026/02/Krawatten_Chor.webp
END:VEVENT
END:VCALENDAR